BEGIN:VCALENDAR
VERSION:2.0
PRODID:-//Bacoa - ECPv6.15.20//NONSGML v1.0//EN
CALSCALE:GREGORIAN
METHOD:PUBLISH
X-WR-CALNAME:Bacoa
X-ORIGINAL-URL:https://bacoa.org
X-WR-CALDESC:Events for Bacoa
REFRESH-INTERVAL;VALUE=DURATION:PT1H
X-Robots-Tag:noindex
X-PUBLISHED-TTL:PT1H
BEGIN:VTIMEZONE
TZID:America/Chicago
BEGIN:DAYLIGHT
TZOFFSETFROM:-0600
TZOFFSETTO:-0500
TZNAME:CDT
DTSTART:20250309T080000
END:DAYLIGHT
BEGIN:STANDARD
TZOFFSETFROM:-0500
TZOFFSETTO:-0600
TZNAME:CST
DTSTART:20251102T070000
END:STANDARD
BEGIN:DAYLIGHT
TZOFFSETFROM:-0600
TZOFFSETTO:-0500
TZNAME:CDT
DTSTART:20260308T080000
END:DAYLIGHT
BEGIN:STANDARD
TZOFFSETFROM:-0500
TZOFFSETTO:-0600
TZNAME:CST
DTSTART:20261101T070000
END:STANDARD
BEGIN:DAYLIGHT
TZOFFSETFROM:-0600
TZOFFSETTO:-0500
TZNAME:CDT
DTSTART:20270314T080000
END:DAYLIGHT
BEGIN:STANDARD
TZOFFSETFROM:-0500
TZOFFSETTO:-0600
TZNAME:CST
DTSTART:20271107T070000
END:STANDARD
END:VTIMEZONE
BEGIN:VEVENT
DTSTART;TZID=America/Chicago:20260422T110000
DTEND;TZID=America/Chicago:20260422T120000
DTSTAMP:20260420T231620
CREATED:20260312T141531Z
LAST-MODIFIED:20260416T142655Z
UID:10001672-1776855600-1776859200@bacoa.org
SUMMARY:Virtual Bingo
DESCRIPTION:Weekly virtual bingo. Three prizes given away each week! – Day change this week\, but same time and same fun! \n\n\n\n\n\n\n\nContact Janine for Zoom link
URL:https://bacoa.org/event/virtual-bingo-31/
CATEGORIES:Active Aging
ORGANIZER;CN="Janine O%E2%80%99Leary":MAILTO:joleary@bacoa.org
LOCATION:https://bacoa.org/event/virtual-bingo-31/
END:VEVENT
BEGIN:VEVENT
DTSTART;TZID=America/Chicago:20260428T110000
DTEND;TZID=America/Chicago:20260428T120000
DTSTAMP:20260420T231620
CREATED:20240904T194905Z
LAST-MODIFIED:20260223T161346Z
UID:10001673-1777374000-1777377600@bacoa.org
SUMMARY:Virtual Bingo
DESCRIPTION:Weekly virtual bingo. Three prizes given away each week!  \n\n\n\n\n\n\n\nContact Janine for Zoom link
URL:https://bacoa.org/event/virtual-bingo-3/2026-04-28/
CATEGORIES:Active Aging
ORGANIZER;CN="Janine O%E2%80%99Leary":MAILTO:joleary@bacoa.org
LOCATION:https://bacoa.org/event/virtual-bingo-3/2026-04-28/
END:VEVENT
BEGIN:VEVENT
DTSTART;TZID=America/Chicago:20260505T110000
DTEND;TZID=America/Chicago:20260505T120000
DTSTAMP:20260420T231620
CREATED:20240904T194905Z
LAST-MODIFIED:20260223T161346Z
UID:10001674-1777978800-1777982400@bacoa.org
SUMMARY:Virtual Bingo
DESCRIPTION:Weekly virtual bingo. Three prizes given away each week!  \n\n\n\n\n\n\n\nContact Janine for Zoom link
URL:https://bacoa.org/event/virtual-bingo-3/2026-05-05/
CATEGORIES:Active Aging
ORGANIZER;CN="Janine O%E2%80%99Leary":MAILTO:joleary@bacoa.org
LOCATION:https://bacoa.org/event/virtual-bingo-3/2026-05-05/
END:VEVENT
BEGIN:VEVENT
DTSTART;TZID=America/Chicago:20260512T110000
DTEND;TZID=America/Chicago:20260512T120000
DTSTAMP:20260420T231620
CREATED:20240904T194905Z
LAST-MODIFIED:20260223T161346Z
UID:10001675-1778583600-1778587200@bacoa.org
SUMMARY:Virtual Bingo
DESCRIPTION:Weekly virtual bingo. Three prizes given away each week!  \n\n\n\n\n\n\n\nContact Janine for Zoom link
URL:https://bacoa.org/event/virtual-bingo-3/2026-05-12/
CATEGORIES:Active Aging
ORGANIZER;CN="Janine O%E2%80%99Leary":MAILTO:joleary@bacoa.org
LOCATION:https://bacoa.org/event/virtual-bingo-3/2026-05-12/
END:VEVENT
BEGIN:VEVENT
DTSTART;TZID=America/Chicago:20260519T110000
DTEND;TZID=America/Chicago:20260519T120000
DTSTAMP:20260420T231620
CREATED:20240904T194905Z
LAST-MODIFIED:20260223T161346Z
UID:10001676-1779188400-1779192000@bacoa.org
SUMMARY:Virtual Bingo
DESCRIPTION:Weekly virtual bingo. Three prizes given away each week!  \n\n\n\n\n\n\n\nContact Janine for Zoom link
URL:https://bacoa.org/event/virtual-bingo-3/2026-05-19/
CATEGORIES:Active Aging
ORGANIZER;CN="Janine O%E2%80%99Leary":MAILTO:joleary@bacoa.org
LOCATION:https://bacoa.org/event/virtual-bingo-3/2026-05-19/
END:VEVENT
BEGIN:VEVENT
DTSTART;TZID=America/Chicago:20260526T110000
DTEND;TZID=America/Chicago:20260526T120000
DTSTAMP:20260420T231620
CREATED:20240904T194905Z
LAST-MODIFIED:20260223T161346Z
UID:10001677-1779793200-1779796800@bacoa.org
SUMMARY:Virtual Bingo
DESCRIPTION:Weekly virtual bingo. Three prizes given away each week!  \n\n\n\n\n\n\n\nContact Janine for Zoom link
URL:https://bacoa.org/event/virtual-bingo-3/2026-05-26/
CATEGORIES:Active Aging
ORGANIZER;CN="Janine O%E2%80%99Leary":MAILTO:joleary@bacoa.org
LOCATION:https://bacoa.org/event/virtual-bingo-3/2026-05-26/
END:VEVENT
BEGIN:VEVENT
DTSTART;TZID=America/Chicago:20260602T110000
DTEND;TZID=America/Chicago:20260602T120000
DTSTAMP:20260420T231620
CREATED:20240904T194905Z
LAST-MODIFIED:20260223T161346Z
UID:10001678-1780398000-1780401600@bacoa.org
SUMMARY:Virtual Bingo
DESCRIPTION:Weekly virtual bingo. Three prizes given away each week!  \n\n\n\n\n\n\n\nContact Janine for Zoom link
URL:https://bacoa.org/event/virtual-bingo-3/2026-06-02/
CATEGORIES:Active Aging
ORGANIZER;CN="Janine O%E2%80%99Leary":MAILTO:joleary@bacoa.org
LOCATION:https://bacoa.org/event/virtual-bingo-3/2026-06-02/
END:VEVENT
BEGIN:VEVENT
DTSTART;TZID=America/Chicago:20260609T110000
DTEND;TZID=America/Chicago:20260609T120000
DTSTAMP:20260420T231620
CREATED:20240904T194905Z
LAST-MODIFIED:20260223T161346Z
UID:10001679-1781002800-1781006400@bacoa.org
SUMMARY:Virtual Bingo
DESCRIPTION:Weekly virtual bingo. Three prizes given away each week!  \n\n\n\n\n\n\n\nContact Janine for Zoom link
URL:https://bacoa.org/event/virtual-bingo-3/2026-06-09/
CATEGORIES:Active Aging
ORGANIZER;CN="Janine O%E2%80%99Leary":MAILTO:joleary@bacoa.org
LOCATION:https://bacoa.org/event/virtual-bingo-3/2026-06-09/
END:VEVENT
BEGIN:VEVENT
DTSTART;TZID=America/Chicago:20260616T110000
DTEND;TZID=America/Chicago:20260616T120000
DTSTAMP:20260420T231620
CREATED:20240904T194905Z
LAST-MODIFIED:20260223T161346Z
UID:10001680-1781607600-1781611200@bacoa.org
SUMMARY:Virtual Bingo
DESCRIPTION:Weekly virtual bingo. Three prizes given away each week!  \n\n\n\n\n\n\n\nContact Janine for Zoom link
URL:https://bacoa.org/event/virtual-bingo-3/2026-06-16/
CATEGORIES:Active Aging
ORGANIZER;CN="Janine O%E2%80%99Leary":MAILTO:joleary@bacoa.org
LOCATION:https://bacoa.org/event/virtual-bingo-3/2026-06-16/
END:VEVENT
BEGIN:VEVENT
DTSTART;TZID=America/Chicago:20260623T110000
DTEND;TZID=America/Chicago:20260623T120000
DTSTAMP:20260420T231620
CREATED:20240904T194905Z
LAST-MODIFIED:20260223T161346Z
UID:10001681-1782212400-1782216000@bacoa.org
SUMMARY:Virtual Bingo
DESCRIPTION:Weekly virtual bingo. Three prizes given away each week!  \n\n\n\n\n\n\n\nContact Janine for Zoom link
URL:https://bacoa.org/event/virtual-bingo-3/2026-06-23/
CATEGORIES:Active Aging
ORGANIZER;CN="Janine O%E2%80%99Leary":MAILTO:joleary@bacoa.org
LOCATION:https://bacoa.org/event/virtual-bingo-3/2026-06-23/
END:VEVENT
BEGIN:VEVENT
DTSTART;TZID=America/Chicago:20260630T110000
DTEND;TZID=America/Chicago:20260630T120000
DTSTAMP:20260420T231620
CREATED:20240904T194905Z
LAST-MODIFIED:20260223T161346Z
UID:10001682-1782817200-1782820800@bacoa.org
SUMMARY:Virtual Bingo
DESCRIPTION:Weekly virtual bingo. Three prizes given away each week!  \n\n\n\n\n\n\n\nContact Janine for Zoom link
URL:https://bacoa.org/event/virtual-bingo-3/2026-06-30/
CATEGORIES:Active Aging
ORGANIZER;CN="Janine O%E2%80%99Leary":MAILTO:joleary@bacoa.org
LOCATION:https://bacoa.org/event/virtual-bingo-3/2026-06-30/
END:VEVENT
BEGIN:VEVENT
DTSTART;TZID=America/Chicago:20260707T110000
DTEND;TZID=America/Chicago:20260707T120000
DTSTAMP:20260420T231620
CREATED:20240904T194905Z
LAST-MODIFIED:20260223T161346Z
UID:10001683-1783422000-1783425600@bacoa.org
SUMMARY:Virtual Bingo
DESCRIPTION:Weekly virtual bingo. Three prizes given away each week!  \n\n\n\n\n\n\n\nContact Janine for Zoom link
URL:https://bacoa.org/event/virtual-bingo-3/2026-07-07/
CATEGORIES:Active Aging
ORGANIZER;CN="Janine O%E2%80%99Leary":MAILTO:joleary@bacoa.org
LOCATION:https://bacoa.org/event/virtual-bingo-3/2026-07-07/
END:VEVENT
BEGIN:VEVENT
DTSTART;TZID=America/Chicago:20260714T110000
DTEND;TZID=America/Chicago:20260714T120000
DTSTAMP:20260420T231620
CREATED:20240904T194905Z
LAST-MODIFIED:20260223T161346Z
UID:10001684-1784026800-1784030400@bacoa.org
SUMMARY:Virtual Bingo
DESCRIPTION:Weekly virtual bingo. Three prizes given away each week!  \n\n\n\n\n\n\n\nContact Janine for Zoom link
URL:https://bacoa.org/event/virtual-bingo-3/2026-07-14/
CATEGORIES:Active Aging
ORGANIZER;CN="Janine O%E2%80%99Leary":MAILTO:joleary@bacoa.org
LOCATION:https://bacoa.org/event/virtual-bingo-3/2026-07-14/
END:VEVENT
BEGIN:VEVENT
DTSTART;TZID=America/Chicago:20260721T110000
DTEND;TZID=America/Chicago:20260721T120000
DTSTAMP:20260420T231620
CREATED:20240904T194905Z
LAST-MODIFIED:20260223T161346Z
UID:10001685-1784631600-1784635200@bacoa.org
SUMMARY:Virtual Bingo
DESCRIPTION:Weekly virtual bingo. Three prizes given away each week!  \n\n\n\n\n\n\n\nContact Janine for Zoom link
URL:https://bacoa.org/event/virtual-bingo-3/2026-07-21/
CATEGORIES:Active Aging
ORGANIZER;CN="Janine O%E2%80%99Leary":MAILTO:joleary@bacoa.org
LOCATION:https://bacoa.org/event/virtual-bingo-3/2026-07-21/
END:VEVENT
BEGIN:VEVENT
DTSTART;TZID=America/Chicago:20260728T110000
DTEND;TZID=America/Chicago:20260728T120000
DTSTAMP:20260420T231620
CREATED:20240904T194905Z
LAST-MODIFIED:20260223T161346Z
UID:10001686-1785236400-1785240000@bacoa.org
SUMMARY:Virtual Bingo
DESCRIPTION:Weekly virtual bingo. Three prizes given away each week!  \n\n\n\n\n\n\n\nContact Janine for Zoom link
URL:https://bacoa.org/event/virtual-bingo-3/2026-07-28/
CATEGORIES:Active Aging
ORGANIZER;CN="Janine O%E2%80%99Leary":MAILTO:joleary@bacoa.org
LOCATION:https://bacoa.org/event/virtual-bingo-3/2026-07-28/
END:VEVENT
BEGIN:VEVENT
DTSTART;TZID=America/Chicago:20260804T110000
DTEND;TZID=America/Chicago:20260804T120000
DTSTAMP:20260420T231620
CREATED:20240904T194905Z
LAST-MODIFIED:20260223T161346Z
UID:10001687-1785841200-1785844800@bacoa.org
SUMMARY:Virtual Bingo
DESCRIPTION:Weekly virtual bingo. Three prizes given away each week!  \n\n\n\n\n\n\n\nContact Janine for Zoom link
URL:https://bacoa.org/event/virtual-bingo-3/2026-08-04/
CATEGORIES:Active Aging
ORGANIZER;CN="Janine O%E2%80%99Leary":MAILTO:joleary@bacoa.org
LOCATION:https://bacoa.org/event/virtual-bingo-3/2026-08-04/
END:VEVENT
BEGIN:VEVENT
DTSTART;TZID=America/Chicago:20260811T110000
DTEND;TZID=America/Chicago:20260811T120000
DTSTAMP:20260420T231620
CREATED:20240904T194905Z
LAST-MODIFIED:20260223T161346Z
UID:10001688-1786446000-1786449600@bacoa.org
SUMMARY:Virtual Bingo
DESCRIPTION:Weekly virtual bingo. Three prizes given away each week!  \n\n\n\n\n\n\n\nContact Janine for Zoom link
URL:https://bacoa.org/event/virtual-bingo-3/2026-08-11/
CATEGORIES:Active Aging
ORGANIZER;CN="Janine O%E2%80%99Leary":MAILTO:joleary@bacoa.org
LOCATION:https://bacoa.org/event/virtual-bingo-3/2026-08-11/
END:VEVENT
BEGIN:VEVENT
DTSTART;TZID=America/Chicago:20260818T110000
DTEND;TZID=America/Chicago:20260818T120000
DTSTAMP:20260420T231620
CREATED:20240904T194905Z
LAST-MODIFIED:20260223T161346Z
UID:10001689-1787050800-1787054400@bacoa.org
SUMMARY:Virtual Bingo
DESCRIPTION:Weekly virtual bingo. Three prizes given away each week!  \n\n\n\n\n\n\n\nContact Janine for Zoom link
URL:https://bacoa.org/event/virtual-bingo-3/2026-08-18/
CATEGORIES:Active Aging
ORGANIZER;CN="Janine O%E2%80%99Leary":MAILTO:joleary@bacoa.org
LOCATION:https://bacoa.org/event/virtual-bingo-3/2026-08-18/
END:VEVENT
BEGIN:VEVENT
DTSTART;TZID=America/Chicago:20260825T110000
DTEND;TZID=America/Chicago:20260825T120000
DTSTAMP:20260420T231620
CREATED:20240904T194905Z
LAST-MODIFIED:20260223T161346Z
UID:10001690-1787655600-1787659200@bacoa.org
SUMMARY:Virtual Bingo
DESCRIPTION:Weekly virtual bingo. Three prizes given away each week!  \n\n\n\n\n\n\n\nContact Janine for Zoom link
URL:https://bacoa.org/event/virtual-bingo-3/2026-08-25/
CATEGORIES:Active Aging
ORGANIZER;CN="Janine O%E2%80%99Leary":MAILTO:joleary@bacoa.org
LOCATION:https://bacoa.org/event/virtual-bingo-3/2026-08-25/
END:VEVENT
BEGIN:VEVENT
DTSTART;TZID=America/Chicago:20260901T110000
DTEND;TZID=America/Chicago:20260901T120000
DTSTAMP:20260420T231620
CREATED:20240904T194905Z
LAST-MODIFIED:20260223T161346Z
UID:10001691-1788260400-1788264000@bacoa.org
SUMMARY:Virtual Bingo
DESCRIPTION:Weekly virtual bingo. Three prizes given away each week!  \n\n\n\n\n\n\n\nContact Janine for Zoom link
URL:https://bacoa.org/event/virtual-bingo-3/2026-09-01/
CATEGORIES:Active Aging
ORGANIZER;CN="Janine O%E2%80%99Leary":MAILTO:joleary@bacoa.org
LOCATION:https://bacoa.org/event/virtual-bingo-3/2026-09-01/
END:VEVENT
BEGIN:VEVENT
DTSTART;TZID=America/Chicago:20260908T110000
DTEND;TZID=America/Chicago:20260908T120000
DTSTAMP:20260420T231620
CREATED:20240904T194905Z
LAST-MODIFIED:20260223T161346Z
UID:10001692-1788865200-1788868800@bacoa.org
SUMMARY:Virtual Bingo
DESCRIPTION:Weekly virtual bingo. Three prizes given away each week!  \n\n\n\n\n\n\n\nContact Janine for Zoom link
URL:https://bacoa.org/event/virtual-bingo-3/2026-09-08/
CATEGORIES:Active Aging
ORGANIZER;CN="Janine O%E2%80%99Leary":MAILTO:joleary@bacoa.org
LOCATION:https://bacoa.org/event/virtual-bingo-3/2026-09-08/
END:VEVENT
BEGIN:VEVENT
DTSTART;TZID=America/Chicago:20260915T110000
DTEND;TZID=America/Chicago:20260915T120000
DTSTAMP:20260420T231620
CREATED:20240904T194905Z
LAST-MODIFIED:20260223T161346Z
UID:10001693-1789470000-1789473600@bacoa.org
SUMMARY:Virtual Bingo
DESCRIPTION:Weekly virtual bingo. Three prizes given away each week!  \n\n\n\n\n\n\n\nContact Janine for Zoom link
URL:https://bacoa.org/event/virtual-bingo-3/2026-09-15/
CATEGORIES:Active Aging
ORGANIZER;CN="Janine O%E2%80%99Leary":MAILTO:joleary@bacoa.org
LOCATION:https://bacoa.org/event/virtual-bingo-3/2026-09-15/
END:VEVENT
BEGIN:VEVENT
DTSTART;TZID=America/Chicago:20260922T110000
DTEND;TZID=America/Chicago:20260922T120000
DTSTAMP:20260420T231620
CREATED:20240904T194905Z
LAST-MODIFIED:20260223T161346Z
UID:10001694-1790074800-1790078400@bacoa.org
SUMMARY:Virtual Bingo
DESCRIPTION:Weekly virtual bingo. Three prizes given away each week!  \n\n\n\n\n\n\n\nContact Janine for Zoom link
URL:https://bacoa.org/event/virtual-bingo-3/2026-09-22/
CATEGORIES:Active Aging
ORGANIZER;CN="Janine O%E2%80%99Leary":MAILTO:joleary@bacoa.org
LOCATION:https://bacoa.org/event/virtual-bingo-3/2026-09-22/
END:VEVENT
BEGIN:VEVENT
DTSTART;TZID=America/Chicago:20260929T110000
DTEND;TZID=America/Chicago:20260929T120000
DTSTAMP:20260420T231620
CREATED:20240904T194905Z
LAST-MODIFIED:20260223T161346Z
UID:10001695-1790679600-1790683200@bacoa.org
SUMMARY:Virtual Bingo
DESCRIPTION:Weekly virtual bingo. Three prizes given away each week!  \n\n\n\n\n\n\n\nContact Janine for Zoom link
URL:https://bacoa.org/event/virtual-bingo-3/2026-09-29/
CATEGORIES:Active Aging
ORGANIZER;CN="Janine O%E2%80%99Leary":MAILTO:joleary@bacoa.org
LOCATION:https://bacoa.org/event/virtual-bingo-3/2026-09-29/
END:VEVENT
BEGIN:VEVENT
DTSTART;TZID=America/Chicago:20261006T110000
DTEND;TZID=America/Chicago:20261006T120000
DTSTAMP:20260420T231620
CREATED:20240904T194905Z
LAST-MODIFIED:20260223T161346Z
UID:10001696-1791284400-1791288000@bacoa.org
SUMMARY:Virtual Bingo
DESCRIPTION:Weekly virtual bingo. Three prizes given away each week!  \n\n\n\n\n\n\n\nContact Janine for Zoom link
URL:https://bacoa.org/event/virtual-bingo-3/2026-10-06/
CATEGORIES:Active Aging
ORGANIZER;CN="Janine O%E2%80%99Leary":MAILTO:joleary@bacoa.org
LOCATION:https://bacoa.org/event/virtual-bingo-3/2026-10-06/
END:VEVENT
BEGIN:VEVENT
DTSTART;TZID=America/Chicago:20261013T110000
DTEND;TZID=America/Chicago:20261013T120000
DTSTAMP:20260420T231620
CREATED:20240904T194905Z
LAST-MODIFIED:20260223T161346Z
UID:10001697-1791889200-1791892800@bacoa.org
SUMMARY:Virtual Bingo
DESCRIPTION:Weekly virtual bingo. Three prizes given away each week!  \n\n\n\n\n\n\n\nContact Janine for Zoom link
URL:https://bacoa.org/event/virtual-bingo-3/2026-10-13/
CATEGORIES:Active Aging
ORGANIZER;CN="Janine O%E2%80%99Leary":MAILTO:joleary@bacoa.org
LOCATION:https://bacoa.org/event/virtual-bingo-3/2026-10-13/
END:VEVENT
BEGIN:VEVENT
DTSTART;TZID=America/Chicago:20261020T110000
DTEND;TZID=America/Chicago:20261020T120000
DTSTAMP:20260420T231620
CREATED:20240904T194905Z
LAST-MODIFIED:20260223T161346Z
UID:10001698-1792494000-1792497600@bacoa.org
SUMMARY:Virtual Bingo
DESCRIPTION:Weekly virtual bingo. Three prizes given away each week!  \n\n\n\n\n\n\n\nContact Janine for Zoom link
URL:https://bacoa.org/event/virtual-bingo-3/2026-10-20/
CATEGORIES:Active Aging
ORGANIZER;CN="Janine O%E2%80%99Leary":MAILTO:joleary@bacoa.org
LOCATION:https://bacoa.org/event/virtual-bingo-3/2026-10-20/
END:VEVENT
BEGIN:VEVENT
DTSTART;TZID=America/Chicago:20261027T110000
DTEND;TZID=America/Chicago:20261027T120000
DTSTAMP:20260420T231620
CREATED:20240904T194905Z
LAST-MODIFIED:20260223T161346Z
UID:10001699-1793098800-1793102400@bacoa.org
SUMMARY:Virtual Bingo
DESCRIPTION:Weekly virtual bingo. Three prizes given away each week!  \n\n\n\n\n\n\n\nContact Janine for Zoom link
URL:https://bacoa.org/event/virtual-bingo-3/2026-10-27/
CATEGORIES:Active Aging
ORGANIZER;CN="Janine O%E2%80%99Leary":MAILTO:joleary@bacoa.org
LOCATION:https://bacoa.org/event/virtual-bingo-3/2026-10-27/
END:VEVENT
BEGIN:VEVENT
DTSTART;TZID=America/Chicago:20261103T110000
DTEND;TZID=America/Chicago:20261103T120000
DTSTAMP:20260420T231620
CREATED:20240904T194905Z
LAST-MODIFIED:20260223T161346Z
UID:10001700-1793703600-1793707200@bacoa.org
SUMMARY:Virtual Bingo
DESCRIPTION:Weekly virtual bingo. Three prizes given away each week!  \n\n\n\n\n\n\n\nContact Janine for Zoom link
URL:https://bacoa.org/event/virtual-bingo-3/2026-11-03/
CATEGORIES:Active Aging
ORGANIZER;CN="Janine O%E2%80%99Leary":MAILTO:joleary@bacoa.org
LOCATION:https://bacoa.org/event/virtual-bingo-3/2026-11-03/
END:VEVENT
BEGIN:VEVENT
DTSTART;TZID=America/Chicago:20261110T110000
DTEND;TZID=America/Chicago:20261110T120000
DTSTAMP:20260420T231620
CREATED:20240904T194905Z
LAST-MODIFIED:20260223T161346Z
UID:10001701-1794308400-1794312000@bacoa.org
SUMMARY:Virtual Bingo
DESCRIPTION:Weekly virtual bingo. Three prizes given away each week!  \n\n\n\n\n\n\n\nContact Janine for Zoom link
URL:https://bacoa.org/event/virtual-bingo-3/2026-11-10/
CATEGORIES:Active Aging
ORGANIZER;CN="Janine O%E2%80%99Leary":MAILTO:joleary@bacoa.org
LOCATION:https://bacoa.org/event/virtual-bingo-3/2026-11-10/
END:VEVENT
END:VCALENDAR