BEGIN:VCALENDAR
VERSION:2.0
PRODID:-//Bacoa - ECPv6.15.20//NONSGML v1.0//EN
CALSCALE:GREGORIAN
METHOD:PUBLISH
X-WR-CALNAME:Bacoa
X-ORIGINAL-URL:https://bacoa.org
X-WR-CALDESC:Events for Bacoa
REFRESH-INTERVAL;VALUE=DURATION:PT1H
X-Robots-Tag:noindex
X-PUBLISHED-TTL:PT1H
BEGIN:VTIMEZONE
TZID:America/Chicago
BEGIN:DAYLIGHT
TZOFFSETFROM:-0600
TZOFFSETTO:-0500
TZNAME:CDT
DTSTART:20280312T080000
END:DAYLIGHT
BEGIN:STANDARD
TZOFFSETFROM:-0500
TZOFFSETTO:-0600
TZNAME:CST
DTSTART:20281105T070000
END:STANDARD
BEGIN:DAYLIGHT
TZOFFSETFROM:-0600
TZOFFSETTO:-0500
TZNAME:CDT
DTSTART:20290311T080000
END:DAYLIGHT
BEGIN:STANDARD
TZOFFSETFROM:-0500
TZOFFSETTO:-0600
TZNAME:CST
DTSTART:20291104T070000
END:STANDARD
BEGIN:DAYLIGHT
TZOFFSETFROM:-0600
TZOFFSETTO:-0500
TZNAME:CDT
DTSTART:20300310T080000
END:DAYLIGHT
BEGIN:STANDARD
TZOFFSETFROM:-0500
TZOFFSETTO:-0600
TZNAME:CST
DTSTART:20301103T070000
END:STANDARD
END:VTIMEZONE
BEGIN:VEVENT
DTSTART;TZID=America/Chicago:20290614T100000
DTEND;TZID=America/Chicago:20290614T143000
DTSTAMP:20260419T092804
CREATED:20250915T144459Z
LAST-MODIFIED:20250915T144504Z
UID:10003069-1876125600-1876141800@bacoa.org
SUMMARY:'A Day Out' Adult Program
DESCRIPTION:A social model program designed to address challenges of living with dementia by providing a structured\, engaging\, and strength-based environment for people living with early-stage Alzheimer’s Disease and related dementias. \n\n\n\nPRE-EVALUATION IS REQUIRED BEFORE PARTICIPATION
URL:https://bacoa.org/event/a-day-out-adult-program-4/2029-06-14/
LOCATION:Lutheran Church of the Atonement\, 909 E Main St\, Barrington\, Illinois\, 60010\, United States
CATEGORIES:Memory Programs
ORGANIZER;CN="Pam Pellizzari":MAILTO:ppellizzari@bacoa.org
END:VEVENT
BEGIN:VEVENT
DTSTART;TZID=America/Chicago:20290618T100000
DTEND;TZID=America/Chicago:20290618T143000
DTSTAMP:20260419T092804
CREATED:20250915T144459Z
LAST-MODIFIED:20250915T144504Z
UID:10004678-1876471200-1876487400@bacoa.org
SUMMARY:'A Day Out' Adult Program
DESCRIPTION:A social model program designed to address challenges of living with dementia by providing a structured\, engaging\, and strength-based environment for people living with early-stage Alzheimer’s Disease and related dementias. \n\n\n\nPRE-EVALUATION IS REQUIRED BEFORE PARTICIPATION
URL:https://bacoa.org/event/a-day-out-adult-program-4/2029-06-18/
LOCATION:Lutheran Church of the Atonement\, 909 E Main St\, Barrington\, Illinois\, 60010\, United States
CATEGORIES:Memory Programs
ORGANIZER;CN="Pam Pellizzari":MAILTO:ppellizzari@bacoa.org
END:VEVENT
BEGIN:VEVENT
DTSTART;TZID=America/Chicago:20290618T104500
DTEND;TZID=America/Chicago:20290618T130000
DTSTAMP:20260419T092804
CREATED:20240417T171748Z
LAST-MODIFIED:20260223T164247Z
UID:10003593-1876473900-1876482000@bacoa.org
SUMMARY:Lunch and Bingo
DESCRIPTION:Weekly congregate lunch and 1-hour bingo program at Barrington Park District.Bingo and Panera lunch: $12; bingo only: $3. \n\n\n\nRegistration is required. Pay before or at the event.
URL:https://bacoa.org/event/lunch-and-bingo-2/2029-06-18/
LOCATION:Barrington Park District\, 235 Lions Dr\, Barrington\, IL\, 60010\, United States
CATEGORIES:Active Aging
ORGANIZER;CN="Janine O%E2%80%99Leary":MAILTO:joleary@bacoa.org
END:VEVENT
BEGIN:VEVENT
DTSTART;TZID=America/Chicago:20290619T100000
DTEND;TZID=America/Chicago:20290619T233000
DTSTAMP:20260419T092804
CREATED:20250915T150645Z
LAST-MODIFIED:20260416T151231Z
UID:10004344-1876557600-1876606200@bacoa.org
SUMMARY:Memory Café
DESCRIPTION:Participants with memory loss and their care companions can take part in fun activities in a relaxed setting while making new friends and offering support to each other. \n\n\n\nPlease call Ela Library to register: 847-438-3433
URL:https://bacoa.org/event/memory-cafe-5/2029-06-19/
LOCATION:Ela Area Public Library\, 275 Mohawk Trail\, Lake Zurich\, Illinois\, 60047\, United States
CATEGORIES:Memory Programs
ORGANIZER;CN="Pam Pellizzari":MAILTO:ppellizzari@bacoa.org
END:VEVENT
BEGIN:VEVENT
DTSTART;TZID=America/Chicago:20290619T110000
DTEND;TZID=America/Chicago:20290619T120000
DTSTAMP:20260419T092804
CREATED:20240904T194905Z
LAST-MODIFIED:20260223T161346Z
UID:10003609-1876561200-1876564800@bacoa.org
SUMMARY:Virtual Bingo
DESCRIPTION:Weekly virtual bingo. Three prizes given away each week!  \n\n\n\n\n\n\n\nContact Janine for Zoom link
URL:https://bacoa.org/event/virtual-bingo-3/2029-06-19/
LOCATION:https://bacoa.org/event/virtual-bingo-3/2029-06-19/
CATEGORIES:Active Aging
ORGANIZER;CN="Janine O%E2%80%99Leary":MAILTO:joleary@bacoa.org
END:VEVENT
BEGIN:VEVENT
DTSTART;TZID=America/Chicago:20290621T100000
DTEND;TZID=America/Chicago:20290621T143000
DTSTAMP:20260419T092804
CREATED:20250915T144459Z
LAST-MODIFIED:20250915T144504Z
UID:10003624-1876730400-1876746600@bacoa.org
SUMMARY:'A Day Out' Adult Program
DESCRIPTION:A social model program designed to address challenges of living with dementia by providing a structured\, engaging\, and strength-based environment for people living with early-stage Alzheimer’s Disease and related dementias. \n\n\n\nPRE-EVALUATION IS REQUIRED BEFORE PARTICIPATION
URL:https://bacoa.org/event/a-day-out-adult-program-4/2029-06-21/
LOCATION:Lutheran Church of the Atonement\, 909 E Main St\, Barrington\, Illinois\, 60010\, United States
CATEGORIES:Memory Programs
ORGANIZER;CN="Pam Pellizzari":MAILTO:ppellizzari@bacoa.org
END:VEVENT
BEGIN:VEVENT
DTSTART;TZID=America/Chicago:20290625T100000
DTEND;TZID=America/Chicago:20290625T143000
DTSTAMP:20260419T092804
CREATED:20250915T144459Z
LAST-MODIFIED:20250915T144504Z
UID:10003625-1877076000-1877092200@bacoa.org
SUMMARY:'A Day Out' Adult Program
DESCRIPTION:A social model program designed to address challenges of living with dementia by providing a structured\, engaging\, and strength-based environment for people living with early-stage Alzheimer’s Disease and related dementias. \n\n\n\nPRE-EVALUATION IS REQUIRED BEFORE PARTICIPATION
URL:https://bacoa.org/event/a-day-out-adult-program-4/2029-06-25/
LOCATION:Lutheran Church of the Atonement\, 909 E Main St\, Barrington\, Illinois\, 60010\, United States
CATEGORIES:Memory Programs
ORGANIZER;CN="Pam Pellizzari":MAILTO:ppellizzari@bacoa.org
END:VEVENT
BEGIN:VEVENT
DTSTART;TZID=America/Chicago:20290625T104500
DTEND;TZID=America/Chicago:20290625T130000
DTSTAMP:20260419T092804
CREATED:20240417T171748Z
LAST-MODIFIED:20260223T164247Z
UID:10003594-1877078700-1877086800@bacoa.org
SUMMARY:Lunch and Bingo
DESCRIPTION:Weekly congregate lunch and 1-hour bingo program at Barrington Park District.Bingo and Panera lunch: $12; bingo only: $3. \n\n\n\nRegistration is required. Pay before or at the event.
URL:https://bacoa.org/event/lunch-and-bingo-2/2029-06-25/
LOCATION:Barrington Park District\, 235 Lions Dr\, Barrington\, IL\, 60010\, United States
CATEGORIES:Active Aging
ORGANIZER;CN="Janine O%E2%80%99Leary":MAILTO:joleary@bacoa.org
END:VEVENT
BEGIN:VEVENT
DTSTART;TZID=America/Chicago:20290626T110000
DTEND;TZID=America/Chicago:20290626T120000
DTSTAMP:20260419T092804
CREATED:20240904T194905Z
LAST-MODIFIED:20260223T161346Z
UID:10003610-1877166000-1877169600@bacoa.org
SUMMARY:Virtual Bingo
DESCRIPTION:Weekly virtual bingo. Three prizes given away each week!  \n\n\n\n\n\n\n\nContact Janine for Zoom link
URL:https://bacoa.org/event/virtual-bingo-3/2029-06-26/
LOCATION:https://bacoa.org/event/virtual-bingo-3/2029-06-26/
CATEGORIES:Active Aging
ORGANIZER;CN="Janine O%E2%80%99Leary":MAILTO:joleary@bacoa.org
END:VEVENT
BEGIN:VEVENT
DTSTART;TZID=America/Chicago:20290628T100000
DTEND;TZID=America/Chicago:20290628T143000
DTSTAMP:20260419T092804
CREATED:20250915T144459Z
LAST-MODIFIED:20250915T144504Z
UID:10003626-1877335200-1877351400@bacoa.org
SUMMARY:'A Day Out' Adult Program
DESCRIPTION:A social model program designed to address challenges of living with dementia by providing a structured\, engaging\, and strength-based environment for people living with early-stage Alzheimer’s Disease and related dementias. \n\n\n\nPRE-EVALUATION IS REQUIRED BEFORE PARTICIPATION
URL:https://bacoa.org/event/a-day-out-adult-program-4/2029-06-28/
LOCATION:Lutheran Church of the Atonement\, 909 E Main St\, Barrington\, Illinois\, 60010\, United States
CATEGORIES:Memory Programs
ORGANIZER;CN="Pam Pellizzari":MAILTO:ppellizzari@bacoa.org
END:VEVENT
BEGIN:VEVENT
DTSTART;TZID=America/Chicago:20290702T100000
DTEND;TZID=America/Chicago:20290702T143000
DTSTAMP:20260419T092804
CREATED:20250915T144459Z
LAST-MODIFIED:20250915T144504Z
UID:10003627-1877680800-1877697000@bacoa.org
SUMMARY:'A Day Out' Adult Program
DESCRIPTION:A social model program designed to address challenges of living with dementia by providing a structured\, engaging\, and strength-based environment for people living with early-stage Alzheimer’s Disease and related dementias. \n\n\n\nPRE-EVALUATION IS REQUIRED BEFORE PARTICIPATION
URL:https://bacoa.org/event/a-day-out-adult-program-4/2029-07-02/
LOCATION:Lutheran Church of the Atonement\, 909 E Main St\, Barrington\, Illinois\, 60010\, United States
CATEGORIES:Memory Programs
ORGANIZER;CN="Pam Pellizzari":MAILTO:ppellizzari@bacoa.org
END:VEVENT
BEGIN:VEVENT
DTSTART;TZID=America/Chicago:20290702T104500
DTEND;TZID=America/Chicago:20290702T130000
DTSTAMP:20260419T092804
CREATED:20240417T171748Z
LAST-MODIFIED:20260223T164247Z
UID:10003595-1877683500-1877691600@bacoa.org
SUMMARY:Lunch and Bingo
DESCRIPTION:Weekly congregate lunch and 1-hour bingo program at Barrington Park District.Bingo and Panera lunch: $12; bingo only: $3. \n\n\n\nRegistration is required. Pay before or at the event.
URL:https://bacoa.org/event/lunch-and-bingo-2/2029-07-02/
LOCATION:Barrington Park District\, 235 Lions Dr\, Barrington\, IL\, 60010\, United States
CATEGORIES:Active Aging
ORGANIZER;CN="Janine O%E2%80%99Leary":MAILTO:joleary@bacoa.org
END:VEVENT
BEGIN:VEVENT
DTSTART;TZID=America/Chicago:20290703T110000
DTEND;TZID=America/Chicago:20290703T120000
DTSTAMP:20260419T092804
CREATED:20240904T194905Z
LAST-MODIFIED:20260223T161346Z
UID:10003611-1877770800-1877774400@bacoa.org
SUMMARY:Virtual Bingo
DESCRIPTION:Weekly virtual bingo. Three prizes given away each week!  \n\n\n\n\n\n\n\nContact Janine for Zoom link
URL:https://bacoa.org/event/virtual-bingo-3/2029-07-03/
LOCATION:https://bacoa.org/event/virtual-bingo-3/2029-07-03/
CATEGORIES:Active Aging
ORGANIZER;CN="Janine O%E2%80%99Leary":MAILTO:joleary@bacoa.org
END:VEVENT
BEGIN:VEVENT
DTSTART;TZID=America/Chicago:20290704T000000
DTEND;TZID=America/Chicago:20290704T235959
DTSTAMP:20260419T092804
CREATED:20240614T151705Z
LAST-MODIFIED:20250415T151319Z
UID:10004284-1877817600-1877903999@bacoa.org
SUMMARY:Independence Day - Office Closed
DESCRIPTION:
URL:https://bacoa.org/event/independence-day/2029-07-04/
LOCATION:IL
CATEGORIES:Holidays & Breaks
END:VEVENT
BEGIN:VEVENT
DTSTART;TZID=America/Chicago:20290705T100000
DTEND;TZID=America/Chicago:20290705T143000
DTSTAMP:20260419T092804
CREATED:20250915T144459Z
LAST-MODIFIED:20250915T144504Z
UID:10003628-1877940000-1877956200@bacoa.org
SUMMARY:'A Day Out' Adult Program
DESCRIPTION:A social model program designed to address challenges of living with dementia by providing a structured\, engaging\, and strength-based environment for people living with early-stage Alzheimer’s Disease and related dementias. \n\n\n\nPRE-EVALUATION IS REQUIRED BEFORE PARTICIPATION
URL:https://bacoa.org/event/a-day-out-adult-program-4/2029-07-05/
LOCATION:Lutheran Church of the Atonement\, 909 E Main St\, Barrington\, Illinois\, 60010\, United States
CATEGORIES:Memory Programs
ORGANIZER;CN="Pam Pellizzari":MAILTO:ppellizzari@bacoa.org
END:VEVENT
BEGIN:VEVENT
DTSTART;TZID=America/Chicago:20290709T100000
DTEND;TZID=America/Chicago:20290709T143000
DTSTAMP:20260419T092804
CREATED:20250915T144459Z
LAST-MODIFIED:20250915T144504Z
UID:10003629-1878285600-1878301800@bacoa.org
SUMMARY:'A Day Out' Adult Program
DESCRIPTION:A social model program designed to address challenges of living with dementia by providing a structured\, engaging\, and strength-based environment for people living with early-stage Alzheimer’s Disease and related dementias. \n\n\n\nPRE-EVALUATION IS REQUIRED BEFORE PARTICIPATION
URL:https://bacoa.org/event/a-day-out-adult-program-4/2029-07-09/
LOCATION:Lutheran Church of the Atonement\, 909 E Main St\, Barrington\, Illinois\, 60010\, United States
CATEGORIES:Memory Programs
ORGANIZER;CN="Pam Pellizzari":MAILTO:ppellizzari@bacoa.org
END:VEVENT
BEGIN:VEVENT
DTSTART;TZID=America/Chicago:20290709T104500
DTEND;TZID=America/Chicago:20290709T130000
DTSTAMP:20260419T092804
CREATED:20240417T171748Z
LAST-MODIFIED:20260223T164247Z
UID:10003596-1878288300-1878296400@bacoa.org
SUMMARY:Lunch and Bingo
DESCRIPTION:Weekly congregate lunch and 1-hour bingo program at Barrington Park District.Bingo and Panera lunch: $12; bingo only: $3. \n\n\n\nRegistration is required. Pay before or at the event.
URL:https://bacoa.org/event/lunch-and-bingo-2/2029-07-09/
LOCATION:Barrington Park District\, 235 Lions Dr\, Barrington\, IL\, 60010\, United States
CATEGORIES:Active Aging
ORGANIZER;CN="Janine O%E2%80%99Leary":MAILTO:joleary@bacoa.org
END:VEVENT
BEGIN:VEVENT
DTSTART;TZID=America/Chicago:20290710T110000
DTEND;TZID=America/Chicago:20290710T120000
DTSTAMP:20260419T092804
CREATED:20240904T194905Z
LAST-MODIFIED:20260223T161346Z
UID:10003612-1878375600-1878379200@bacoa.org
SUMMARY:Virtual Bingo
DESCRIPTION:Weekly virtual bingo. Three prizes given away each week!  \n\n\n\n\n\n\n\nContact Janine for Zoom link
URL:https://bacoa.org/event/virtual-bingo-3/2029-07-10/
LOCATION:https://bacoa.org/event/virtual-bingo-3/2029-07-10/
CATEGORIES:Active Aging
ORGANIZER;CN="Janine O%E2%80%99Leary":MAILTO:joleary@bacoa.org
END:VEVENT
BEGIN:VEVENT
DTSTART;TZID=America/Chicago:20290711T103000
DTEND;TZID=America/Chicago:20290711T120000
DTSTAMP:20260419T092804
CREATED:20260416T150504Z
LAST-MODIFIED:20260416T205222Z
UID:10004210-1878460200-1878465600@bacoa.org
SUMMARY:Alzheimer's Caregiver Support Group
DESCRIPTION:Call to Register – Open exchange providing information and support to caregivers \n\n\n\n\n\nIn-person session
URL:https://bacoa.org/event/alzheimers-caregiver-support-group-3/2029-07-11/
LOCATION:Community Church of Barrington\, 407 S Grove Ave\, Barrington\, IL\, 60010\, United States
CATEGORIES:Support Groups
ORGANIZER;CN="Pam Pellizzari":MAILTO:ppellizzari@bacoa.org
END:VEVENT
BEGIN:VEVENT
DTSTART;TZID=America/Chicago:20290712T100000
DTEND;TZID=America/Chicago:20290712T143000
DTSTAMP:20260419T092804
CREATED:20250915T144459Z
LAST-MODIFIED:20250915T144504Z
UID:10003630-1878544800-1878561000@bacoa.org
SUMMARY:'A Day Out' Adult Program
DESCRIPTION:A social model program designed to address challenges of living with dementia by providing a structured\, engaging\, and strength-based environment for people living with early-stage Alzheimer’s Disease and related dementias. \n\n\n\nPRE-EVALUATION IS REQUIRED BEFORE PARTICIPATION
URL:https://bacoa.org/event/a-day-out-adult-program-4/2029-07-12/
LOCATION:Lutheran Church of the Atonement\, 909 E Main St\, Barrington\, Illinois\, 60010\, United States
CATEGORIES:Memory Programs
ORGANIZER;CN="Pam Pellizzari":MAILTO:ppellizzari@bacoa.org
END:VEVENT
BEGIN:VEVENT
DTSTART;TZID=America/Chicago:20290716T100000
DTEND;TZID=America/Chicago:20290716T143000
DTSTAMP:20260419T092804
CREATED:20250915T144459Z
LAST-MODIFIED:20250915T144504Z
UID:10004679-1878890400-1878906600@bacoa.org
SUMMARY:'A Day Out' Adult Program
DESCRIPTION:A social model program designed to address challenges of living with dementia by providing a structured\, engaging\, and strength-based environment for people living with early-stage Alzheimer’s Disease and related dementias. \n\n\n\nPRE-EVALUATION IS REQUIRED BEFORE PARTICIPATION
URL:https://bacoa.org/event/a-day-out-adult-program-4/2029-07-16/
LOCATION:Lutheran Church of the Atonement\, 909 E Main St\, Barrington\, Illinois\, 60010\, United States
CATEGORIES:Memory Programs
ORGANIZER;CN="Pam Pellizzari":MAILTO:ppellizzari@bacoa.org
END:VEVENT
BEGIN:VEVENT
DTSTART;TZID=America/Chicago:20290716T104500
DTEND;TZID=America/Chicago:20290716T130000
DTSTAMP:20260419T092804
CREATED:20240417T171748Z
LAST-MODIFIED:20260223T164247Z
UID:10003597-1878893100-1878901200@bacoa.org
SUMMARY:Lunch and Bingo
DESCRIPTION:Weekly congregate lunch and 1-hour bingo program at Barrington Park District.Bingo and Panera lunch: $12; bingo only: $3. \n\n\n\nRegistration is required. Pay before or at the event.
URL:https://bacoa.org/event/lunch-and-bingo-2/2029-07-16/
LOCATION:Barrington Park District\, 235 Lions Dr\, Barrington\, IL\, 60010\, United States
CATEGORIES:Active Aging
ORGANIZER;CN="Janine O%E2%80%99Leary":MAILTO:joleary@bacoa.org
END:VEVENT
BEGIN:VEVENT
DTSTART;TZID=America/Chicago:20290717T100000
DTEND;TZID=America/Chicago:20290717T233000
DTSTAMP:20260419T092804
CREATED:20250915T150645Z
LAST-MODIFIED:20260416T151231Z
UID:10004345-1878976800-1879025400@bacoa.org
SUMMARY:Memory Café
DESCRIPTION:Participants with memory loss and their care companions can take part in fun activities in a relaxed setting while making new friends and offering support to each other. \n\n\n\nPlease call Ela Library to register: 847-438-3433
URL:https://bacoa.org/event/memory-cafe-5/2029-07-17/
LOCATION:Ela Area Public Library\, 275 Mohawk Trail\, Lake Zurich\, Illinois\, 60047\, United States
CATEGORIES:Memory Programs
ORGANIZER;CN="Pam Pellizzari":MAILTO:ppellizzari@bacoa.org
END:VEVENT
BEGIN:VEVENT
DTSTART;TZID=America/Chicago:20290717T110000
DTEND;TZID=America/Chicago:20290717T120000
DTSTAMP:20260419T092804
CREATED:20240904T194905Z
LAST-MODIFIED:20260223T161346Z
UID:10003613-1878980400-1878984000@bacoa.org
SUMMARY:Virtual Bingo
DESCRIPTION:Weekly virtual bingo. Three prizes given away each week!  \n\n\n\n\n\n\n\nContact Janine for Zoom link
URL:https://bacoa.org/event/virtual-bingo-3/2029-07-17/
LOCATION:https://bacoa.org/event/virtual-bingo-3/2029-07-17/
CATEGORIES:Active Aging
ORGANIZER;CN="Janine O%E2%80%99Leary":MAILTO:joleary@bacoa.org
END:VEVENT
BEGIN:VEVENT
DTSTART;TZID=America/Chicago:20290719T100000
DTEND;TZID=America/Chicago:20290719T143000
DTSTAMP:20260419T092804
CREATED:20250915T144459Z
LAST-MODIFIED:20250915T144504Z
UID:10003631-1879149600-1879165800@bacoa.org
SUMMARY:'A Day Out' Adult Program
DESCRIPTION:A social model program designed to address challenges of living with dementia by providing a structured\, engaging\, and strength-based environment for people living with early-stage Alzheimer’s Disease and related dementias. \n\n\n\nPRE-EVALUATION IS REQUIRED BEFORE PARTICIPATION
URL:https://bacoa.org/event/a-day-out-adult-program-4/2029-07-19/
LOCATION:Lutheran Church of the Atonement\, 909 E Main St\, Barrington\, Illinois\, 60010\, United States
CATEGORIES:Memory Programs
ORGANIZER;CN="Pam Pellizzari":MAILTO:ppellizzari@bacoa.org
END:VEVENT
BEGIN:VEVENT
DTSTART;TZID=America/Chicago:20290723T100000
DTEND;TZID=America/Chicago:20290723T143000
DTSTAMP:20260419T092804
CREATED:20250915T144459Z
LAST-MODIFIED:20250915T144504Z
UID:10003632-1879495200-1879511400@bacoa.org
SUMMARY:'A Day Out' Adult Program
DESCRIPTION:A social model program designed to address challenges of living with dementia by providing a structured\, engaging\, and strength-based environment for people living with early-stage Alzheimer’s Disease and related dementias. \n\n\n\nPRE-EVALUATION IS REQUIRED BEFORE PARTICIPATION
URL:https://bacoa.org/event/a-day-out-adult-program-4/2029-07-23/
LOCATION:Lutheran Church of the Atonement\, 909 E Main St\, Barrington\, Illinois\, 60010\, United States
CATEGORIES:Memory Programs
ORGANIZER;CN="Pam Pellizzari":MAILTO:ppellizzari@bacoa.org
END:VEVENT
BEGIN:VEVENT
DTSTART;TZID=America/Chicago:20290723T104500
DTEND;TZID=America/Chicago:20290723T130000
DTSTAMP:20260419T092804
CREATED:20240417T171748Z
LAST-MODIFIED:20260223T164247Z
UID:10003598-1879497900-1879506000@bacoa.org
SUMMARY:Lunch and Bingo
DESCRIPTION:Weekly congregate lunch and 1-hour bingo program at Barrington Park District.Bingo and Panera lunch: $12; bingo only: $3. \n\n\n\nRegistration is required. Pay before or at the event.
URL:https://bacoa.org/event/lunch-and-bingo-2/2029-07-23/
LOCATION:Barrington Park District\, 235 Lions Dr\, Barrington\, IL\, 60010\, United States
CATEGORIES:Active Aging
ORGANIZER;CN="Janine O%E2%80%99Leary":MAILTO:joleary@bacoa.org
END:VEVENT
BEGIN:VEVENT
DTSTART;TZID=America/Chicago:20290724T110000
DTEND;TZID=America/Chicago:20290724T120000
DTSTAMP:20260419T092804
CREATED:20240904T194905Z
LAST-MODIFIED:20260223T161346Z
UID:10003614-1879585200-1879588800@bacoa.org
SUMMARY:Virtual Bingo
DESCRIPTION:Weekly virtual bingo. Three prizes given away each week!  \n\n\n\n\n\n\n\nContact Janine for Zoom link
URL:https://bacoa.org/event/virtual-bingo-3/2029-07-24/
LOCATION:https://bacoa.org/event/virtual-bingo-3/2029-07-24/
CATEGORIES:Active Aging
ORGANIZER;CN="Janine O%E2%80%99Leary":MAILTO:joleary@bacoa.org
END:VEVENT
BEGIN:VEVENT
DTSTART;TZID=America/Chicago:20290726T100000
DTEND;TZID=America/Chicago:20290726T143000
DTSTAMP:20260419T092804
CREATED:20250915T144459Z
LAST-MODIFIED:20250915T144504Z
UID:10003633-1879754400-1879770600@bacoa.org
SUMMARY:'A Day Out' Adult Program
DESCRIPTION:A social model program designed to address challenges of living with dementia by providing a structured\, engaging\, and strength-based environment for people living with early-stage Alzheimer’s Disease and related dementias. \n\n\n\nPRE-EVALUATION IS REQUIRED BEFORE PARTICIPATION
URL:https://bacoa.org/event/a-day-out-adult-program-4/2029-07-26/
LOCATION:Lutheran Church of the Atonement\, 909 E Main St\, Barrington\, Illinois\, 60010\, United States
CATEGORIES:Memory Programs
ORGANIZER;CN="Pam Pellizzari":MAILTO:ppellizzari@bacoa.org
END:VEVENT
BEGIN:VEVENT
DTSTART;TZID=America/Chicago:20290730T100000
DTEND;TZID=America/Chicago:20290730T143000
DTSTAMP:20260419T092804
CREATED:20250915T144459Z
LAST-MODIFIED:20250915T144504Z
UID:10003634-1880100000-1880116200@bacoa.org
SUMMARY:'A Day Out' Adult Program
DESCRIPTION:A social model program designed to address challenges of living with dementia by providing a structured\, engaging\, and strength-based environment for people living with early-stage Alzheimer’s Disease and related dementias. \n\n\n\nPRE-EVALUATION IS REQUIRED BEFORE PARTICIPATION
URL:https://bacoa.org/event/a-day-out-adult-program-4/2029-07-30/
LOCATION:Lutheran Church of the Atonement\, 909 E Main St\, Barrington\, Illinois\, 60010\, United States
CATEGORIES:Memory Programs
ORGANIZER;CN="Pam Pellizzari":MAILTO:ppellizzari@bacoa.org
END:VEVENT
END:VCALENDAR