BEGIN:VCALENDAR
VERSION:2.0
PRODID:-//Bacoa - ECPv6.15.20//NONSGML v1.0//EN
CALSCALE:GREGORIAN
METHOD:PUBLISH
X-WR-CALNAME:Bacoa
X-ORIGINAL-URL:https://bacoa.org
X-WR-CALDESC:Events for Bacoa
REFRESH-INTERVAL;VALUE=DURATION:PT1H
X-Robots-Tag:noindex
X-PUBLISHED-TTL:PT1H
BEGIN:VTIMEZONE
TZID:America/Chicago
BEGIN:DAYLIGHT
TZOFFSETFROM:-0600
TZOFFSETTO:-0500
TZNAME:CDT
DTSTART:20250309T080000
END:DAYLIGHT
BEGIN:STANDARD
TZOFFSETFROM:-0500
TZOFFSETTO:-0600
TZNAME:CST
DTSTART:20251102T070000
END:STANDARD
BEGIN:DAYLIGHT
TZOFFSETFROM:-0600
TZOFFSETTO:-0500
TZNAME:CDT
DTSTART:20260308T080000
END:DAYLIGHT
BEGIN:STANDARD
TZOFFSETFROM:-0500
TZOFFSETTO:-0600
TZNAME:CST
DTSTART:20261101T070000
END:STANDARD
BEGIN:DAYLIGHT
TZOFFSETFROM:-0600
TZOFFSETTO:-0500
TZNAME:CDT
DTSTART:20270314T080000
END:DAYLIGHT
BEGIN:STANDARD
TZOFFSETFROM:-0500
TZOFFSETTO:-0600
TZNAME:CST
DTSTART:20271107T070000
END:STANDARD
END:VTIMEZONE
BEGIN:VEVENT
DTSTART;TZID=America/Chicago:20260714T100000
DTEND;TZID=America/Chicago:20260714T233000
DTSTAMP:20260421T122707
CREATED:20260416T152332Z
LAST-MODIFIED:20260416T152335Z
UID:10004695-1784023200-1784071800@bacoa.org
SUMMARY:Memory Café
DESCRIPTION:Participants with memory loss and their care companions can take part in fun activities in a relaxed setting while making new friends and offering support to each other. This session: Featuring Nature Program with Gayle Byck \n\n\n\nPlease call Ela Library to register: 847-438-3433
URL:https://bacoa.org/event/memory-cafe-10/
LOCATION:Ela Area Public Library\, 275 Mohawk Trail\, Lake Zurich\, Illinois\, 60047\, United States
CATEGORIES:Memory Programs
ORGANIZER;CN="Pam Pellizzari":MAILTO:ppellizzari@bacoa.org
END:VEVENT
END:VCALENDAR