BEGIN:VCALENDAR
VERSION:2.0
PRODID:-//Bacoa - ECPv6.15.20//NONSGML v1.0//EN
CALSCALE:GREGORIAN
METHOD:PUBLISH
X-ORIGINAL-URL:https://bacoa.org
X-WR-CALDESC:Events for Bacoa
REFRESH-INTERVAL;VALUE=DURATION:PT1H
X-Robots-Tag:noindex
X-PUBLISHED-TTL:PT1H
BEGIN:VTIMEZONE
TZID:America/Chicago
BEGIN:DAYLIGHT
TZOFFSETFROM:-0600
TZOFFSETTO:-0500
TZNAME:CDT
DTSTART:20250309T080000
END:DAYLIGHT
BEGIN:STANDARD
TZOFFSETFROM:-0500
TZOFFSETTO:-0600
TZNAME:CST
DTSTART:20251102T070000
END:STANDARD
BEGIN:DAYLIGHT
TZOFFSETFROM:-0600
TZOFFSETTO:-0500
TZNAME:CDT
DTSTART:20260308T080000
END:DAYLIGHT
BEGIN:STANDARD
TZOFFSETFROM:-0500
TZOFFSETTO:-0600
TZNAME:CST
DTSTART:20261101T070000
END:STANDARD
BEGIN:DAYLIGHT
TZOFFSETFROM:-0600
TZOFFSETTO:-0500
TZNAME:CDT
DTSTART:20270314T080000
END:DAYLIGHT
BEGIN:STANDARD
TZOFFSETFROM:-0500
TZOFFSETTO:-0600
TZNAME:CST
DTSTART:20271107T070000
END:STANDARD
END:VTIMEZONE
BEGIN:VEVENT
DTSTART;TZID=America/Chicago:20261102T100000
DTEND;TZID=America/Chicago:20261102T143000
DTSTAMP:20260425T190754
CREATED:20250915T144459Z
LAST-MODIFIED:20250915T144504Z
UID:10000397-1793613600-1793629800@bacoa.org
SUMMARY:'A Day Out' Adult Program
DESCRIPTION:A social model program designed to address challenges of living with dementia by providing a structured\, engaging\, and strength-based environment for people living with early-stage Alzheimer’s Disease and related dementias. \n\n\n\nPRE-EVALUATION IS REQUIRED BEFORE PARTICIPATION
URL:https://bacoa.org/event/a-day-out-adult-program-4/2026-11-02/
LOCATION:Lutheran Church of the Atonement\, 909 E Main St\, Barrington\, Illinois\, 60010\, United States
CATEGORIES:Memory Programs
ORGANIZER;CN="Pam Pellizzari":MAILTO:ppellizzari@bacoa.org
END:VEVENT
BEGIN:VEVENT
DTSTART;TZID=America/Chicago:20261105T100000
DTEND;TZID=America/Chicago:20261105T143000
DTSTAMP:20260425T190754
CREATED:20250915T144459Z
LAST-MODIFIED:20250915T144504Z
UID:10000137-1793872800-1793889000@bacoa.org
SUMMARY:'A Day Out' Adult Program
DESCRIPTION:A social model program designed to address challenges of living with dementia by providing a structured\, engaging\, and strength-based environment for people living with early-stage Alzheimer’s Disease and related dementias. \n\n\n\nPRE-EVALUATION IS REQUIRED BEFORE PARTICIPATION
URL:https://bacoa.org/event/a-day-out-adult-program-4/2026-11-05/
LOCATION:Lutheran Church of the Atonement\, 909 E Main St\, Barrington\, Illinois\, 60010\, United States
CATEGORIES:Memory Programs
ORGANIZER;CN="Pam Pellizzari":MAILTO:ppellizzari@bacoa.org
END:VEVENT
BEGIN:VEVENT
DTSTART;TZID=America/Chicago:20261109T100000
DTEND;TZID=America/Chicago:20261109T143000
DTSTAMP:20260425T190754
CREATED:20250915T144459Z
LAST-MODIFIED:20250915T144504Z
UID:10002953-1794218400-1794234600@bacoa.org
SUMMARY:'A Day Out' Adult Program
DESCRIPTION:A social model program designed to address challenges of living with dementia by providing a structured\, engaging\, and strength-based environment for people living with early-stage Alzheimer’s Disease and related dementias. \n\n\n\nPRE-EVALUATION IS REQUIRED BEFORE PARTICIPATION
URL:https://bacoa.org/event/a-day-out-adult-program-4/2026-11-09/
LOCATION:Lutheran Church of the Atonement\, 909 E Main St\, Barrington\, Illinois\, 60010\, United States
CATEGORIES:Memory Programs
ORGANIZER;CN="Pam Pellizzari":MAILTO:ppellizzari@bacoa.org
END:VEVENT
BEGIN:VEVENT
DTSTART;TZID=America/Chicago:20261112T100000
DTEND;TZID=America/Chicago:20261112T143000
DTSTAMP:20260425T190754
CREATED:20250915T144459Z
LAST-MODIFIED:20250915T144504Z
UID:10000138-1794477600-1794493800@bacoa.org
SUMMARY:'A Day Out' Adult Program
DESCRIPTION:A social model program designed to address challenges of living with dementia by providing a structured\, engaging\, and strength-based environment for people living with early-stage Alzheimer’s Disease and related dementias. \n\n\n\nPRE-EVALUATION IS REQUIRED BEFORE PARTICIPATION
URL:https://bacoa.org/event/a-day-out-adult-program-4/2026-11-12/
LOCATION:Lutheran Church of the Atonement\, 909 E Main St\, Barrington\, Illinois\, 60010\, United States
CATEGORIES:Memory Programs
ORGANIZER;CN="Pam Pellizzari":MAILTO:ppellizzari@bacoa.org
END:VEVENT
BEGIN:VEVENT
DTSTART;TZID=America/Chicago:20261117T100000
DTEND;TZID=America/Chicago:20261117T233000
DTSTAMP:20260425T190754
CREATED:20250915T150645Z
LAST-MODIFIED:20260416T151231Z
UID:10004313-1794909600-1794958200@bacoa.org
SUMMARY:Memory Café
DESCRIPTION:Participants with memory loss and their care companions can take part in fun activities in a relaxed setting while making new friends and offering support to each other. \n\n\n\nPlease call Ela Library to register: 847-438-3433
URL:https://bacoa.org/event/memory-cafe-5/2026-11-17/
LOCATION:Ela Area Public Library\, 275 Mohawk Trail\, Lake Zurich\, Illinois\, 60047\, United States
CATEGORIES:Memory Programs
ORGANIZER;CN="Pam Pellizzari":MAILTO:ppellizzari@bacoa.org
END:VEVENT
BEGIN:VEVENT
DTSTART;TZID=America/Chicago:20261119T100000
DTEND;TZID=America/Chicago:20261119T143000
DTSTAMP:20260425T190754
CREATED:20250915T144459Z
LAST-MODIFIED:20250915T144504Z
UID:10000139-1795082400-1795098600@bacoa.org
SUMMARY:'A Day Out' Adult Program
DESCRIPTION:A social model program designed to address challenges of living with dementia by providing a structured\, engaging\, and strength-based environment for people living with early-stage Alzheimer’s Disease and related dementias. \n\n\n\nPRE-EVALUATION IS REQUIRED BEFORE PARTICIPATION
URL:https://bacoa.org/event/a-day-out-adult-program-4/2026-11-19/
LOCATION:Lutheran Church of the Atonement\, 909 E Main St\, Barrington\, Illinois\, 60010\, United States
CATEGORIES:Memory Programs
ORGANIZER;CN="Pam Pellizzari":MAILTO:ppellizzari@bacoa.org
END:VEVENT
BEGIN:VEVENT
DTSTART;TZID=America/Chicago:20261123T100000
DTEND;TZID=America/Chicago:20261123T143000
DTSTAMP:20260425T190754
CREATED:20250915T144459Z
LAST-MODIFIED:20250915T144504Z
UID:10000400-1795428000-1795444200@bacoa.org
SUMMARY:'A Day Out' Adult Program
DESCRIPTION:A social model program designed to address challenges of living with dementia by providing a structured\, engaging\, and strength-based environment for people living with early-stage Alzheimer’s Disease and related dementias. \n\n\n\nPRE-EVALUATION IS REQUIRED BEFORE PARTICIPATION
URL:https://bacoa.org/event/a-day-out-adult-program-4/2026-11-23/
LOCATION:Lutheran Church of the Atonement\, 909 E Main St\, Barrington\, Illinois\, 60010\, United States
CATEGORIES:Memory Programs
ORGANIZER;CN="Pam Pellizzari":MAILTO:ppellizzari@bacoa.org
END:VEVENT
BEGIN:VEVENT
DTSTART;TZID=America/Chicago:20261130T100000
DTEND;TZID=America/Chicago:20261130T143000
DTSTAMP:20260425T190754
CREATED:20250915T144459Z
LAST-MODIFIED:20250915T144504Z
UID:10002954-1796032800-1796049000@bacoa.org
SUMMARY:'A Day Out' Adult Program
DESCRIPTION:A social model program designed to address challenges of living with dementia by providing a structured\, engaging\, and strength-based environment for people living with early-stage Alzheimer’s Disease and related dementias. \n\n\n\nPRE-EVALUATION IS REQUIRED BEFORE PARTICIPATION
URL:https://bacoa.org/event/a-day-out-adult-program-4/2026-11-30/
LOCATION:Lutheran Church of the Atonement\, 909 E Main St\, Barrington\, Illinois\, 60010\, United States
CATEGORIES:Memory Programs
ORGANIZER;CN="Pam Pellizzari":MAILTO:ppellizzari@bacoa.org
END:VEVENT
END:VCALENDAR