BEGIN:VCALENDAR
VERSION:2.0
PRODID:-//Bacoa - ECPv6.15.20//NONSGML v1.0//EN
CALSCALE:GREGORIAN
METHOD:PUBLISH
X-ORIGINAL-URL:https://bacoa.org
X-WR-CALDESC:Events for Bacoa
REFRESH-INTERVAL;VALUE=DURATION:PT1H
X-Robots-Tag:noindex
X-PUBLISHED-TTL:PT1H
BEGIN:VTIMEZONE
TZID:America/Chicago
BEGIN:DAYLIGHT
TZOFFSETFROM:-0600
TZOFFSETTO:-0500
TZNAME:CDT
DTSTART:20250309T080000
END:DAYLIGHT
BEGIN:STANDARD
TZOFFSETFROM:-0500
TZOFFSETTO:-0600
TZNAME:CST
DTSTART:20251102T070000
END:STANDARD
BEGIN:DAYLIGHT
TZOFFSETFROM:-0600
TZOFFSETTO:-0500
TZNAME:CDT
DTSTART:20260308T080000
END:DAYLIGHT
BEGIN:STANDARD
TZOFFSETFROM:-0500
TZOFFSETTO:-0600
TZNAME:CST
DTSTART:20261101T070000
END:STANDARD
BEGIN:DAYLIGHT
TZOFFSETFROM:-0600
TZOFFSETTO:-0500
TZNAME:CDT
DTSTART:20270314T080000
END:DAYLIGHT
BEGIN:STANDARD
TZOFFSETFROM:-0500
TZOFFSETTO:-0600
TZNAME:CST
DTSTART:20271107T070000
END:STANDARD
END:VTIMEZONE
BEGIN:VEVENT
DTSTART;TZID=America/Chicago:20260903T100000
DTEND;TZID=America/Chicago:20260903T143000
DTSTAMP:20260425T140742
CREATED:20250915T144459Z
LAST-MODIFIED:20250915T144504Z
UID:10000128-1788429600-1788445800@bacoa.org
SUMMARY:'A Day Out' Adult Program
DESCRIPTION:A social model program designed to address challenges of living with dementia by providing a structured\, engaging\, and strength-based environment for people living with early-stage Alzheimer’s Disease and related dementias. \n\n\n\nPRE-EVALUATION IS REQUIRED BEFORE PARTICIPATION
URL:https://bacoa.org/event/a-day-out-adult-program-4/2026-09-03/
LOCATION:Lutheran Church of the Atonement\, 909 E Main St\, Barrington\, Illinois\, 60010\, United States
CATEGORIES:Memory Programs
ORGANIZER;CN="Pam Pellizzari":MAILTO:ppellizzari@bacoa.org
END:VEVENT
BEGIN:VEVENT
DTSTART;TZID=America/Chicago:20260910T100000
DTEND;TZID=America/Chicago:20260910T143000
DTSTAMP:20260425T140742
CREATED:20250915T144459Z
LAST-MODIFIED:20250915T144504Z
UID:10000129-1789034400-1789050600@bacoa.org
SUMMARY:'A Day Out' Adult Program
DESCRIPTION:A social model program designed to address challenges of living with dementia by providing a structured\, engaging\, and strength-based environment for people living with early-stage Alzheimer’s Disease and related dementias. \n\n\n\nPRE-EVALUATION IS REQUIRED BEFORE PARTICIPATION
URL:https://bacoa.org/event/a-day-out-adult-program-4/2026-09-10/
LOCATION:Lutheran Church of the Atonement\, 909 E Main St\, Barrington\, Illinois\, 60010\, United States
CATEGORIES:Memory Programs
ORGANIZER;CN="Pam Pellizzari":MAILTO:ppellizzari@bacoa.org
END:VEVENT
BEGIN:VEVENT
DTSTART;TZID=America/Chicago:20260914T100000
DTEND;TZID=America/Chicago:20260914T143000
DTSTAMP:20260425T140742
CREATED:20250915T144459Z
LAST-MODIFIED:20250915T144504Z
UID:10000390-1789380000-1789396200@bacoa.org
SUMMARY:'A Day Out' Adult Program
DESCRIPTION:A social model program designed to address challenges of living with dementia by providing a structured\, engaging\, and strength-based environment for people living with early-stage Alzheimer’s Disease and related dementias. \n\n\n\nPRE-EVALUATION IS REQUIRED BEFORE PARTICIPATION
URL:https://bacoa.org/event/a-day-out-adult-program-4/2026-09-14/
LOCATION:Lutheran Church of the Atonement\, 909 E Main St\, Barrington\, Illinois\, 60010\, United States
CATEGORIES:Memory Programs
ORGANIZER;CN="Pam Pellizzari":MAILTO:ppellizzari@bacoa.org
END:VEVENT
BEGIN:VEVENT
DTSTART;TZID=America/Chicago:20260915T100000
DTEND;TZID=America/Chicago:20260915T233000
DTSTAMP:20260425T140742
CREATED:20260416T153332Z
LAST-MODIFIED:20260416T153336Z
UID:10004311-1789466400-1789515000@bacoa.org
SUMMARY:Memory Café
DESCRIPTION:Participants with memory loss and their care companions can take part in fun activities in a relaxed setting while making new friends and offering support to each other. This session: Visit from Soul Harbour Ranch Animal Therapy \n\n\n\nPlease call Ela Library to register: 847-438-3433
URL:https://bacoa.org/event/memory-cafe-12/
LOCATION:Ela Area Public Library\, 275 Mohawk Trail\, Lake Zurich\, Illinois\, 60047\, United States
CATEGORIES:Memory Programs
ORGANIZER;CN="Pam Pellizzari":MAILTO:ppellizzari@bacoa.org
END:VEVENT
BEGIN:VEVENT
DTSTART;TZID=America/Chicago:20260917T100000
DTEND;TZID=America/Chicago:20260917T143000
DTSTAMP:20260425T140742
CREATED:20250915T144459Z
LAST-MODIFIED:20250915T144504Z
UID:10000130-1789639200-1789655400@bacoa.org
SUMMARY:'A Day Out' Adult Program
DESCRIPTION:A social model program designed to address challenges of living with dementia by providing a structured\, engaging\, and strength-based environment for people living with early-stage Alzheimer’s Disease and related dementias. \n\n\n\nPRE-EVALUATION IS REQUIRED BEFORE PARTICIPATION
URL:https://bacoa.org/event/a-day-out-adult-program-4/2026-09-17/
LOCATION:Lutheran Church of the Atonement\, 909 E Main St\, Barrington\, Illinois\, 60010\, United States
CATEGORIES:Memory Programs
ORGANIZER;CN="Pam Pellizzari":MAILTO:ppellizzari@bacoa.org
END:VEVENT
BEGIN:VEVENT
DTSTART;TZID=America/Chicago:20260921T100000
DTEND;TZID=America/Chicago:20260921T143000
DTSTAMP:20260425T140742
CREATED:20250915T144459Z
LAST-MODIFIED:20250915T144504Z
UID:10004645-1789984800-1790001000@bacoa.org
SUMMARY:'A Day Out' Adult Program
DESCRIPTION:A social model program designed to address challenges of living with dementia by providing a structured\, engaging\, and strength-based environment for people living with early-stage Alzheimer’s Disease and related dementias. \n\n\n\nPRE-EVALUATION IS REQUIRED BEFORE PARTICIPATION
URL:https://bacoa.org/event/a-day-out-adult-program-4/2026-09-21/
LOCATION:Lutheran Church of the Atonement\, 909 E Main St\, Barrington\, Illinois\, 60010\, United States
CATEGORIES:Memory Programs
ORGANIZER;CN="Pam Pellizzari":MAILTO:ppellizzari@bacoa.org
END:VEVENT
BEGIN:VEVENT
DTSTART;TZID=America/Chicago:20260924T100000
DTEND;TZID=America/Chicago:20260924T143000
DTSTAMP:20260425T140742
CREATED:20250915T144459Z
LAST-MODIFIED:20250915T144504Z
UID:10000131-1790244000-1790260200@bacoa.org
SUMMARY:'A Day Out' Adult Program
DESCRIPTION:A social model program designed to address challenges of living with dementia by providing a structured\, engaging\, and strength-based environment for people living with early-stage Alzheimer’s Disease and related dementias. \n\n\n\nPRE-EVALUATION IS REQUIRED BEFORE PARTICIPATION
URL:https://bacoa.org/event/a-day-out-adult-program-4/2026-09-24/
LOCATION:Lutheran Church of the Atonement\, 909 E Main St\, Barrington\, Illinois\, 60010\, United States
CATEGORIES:Memory Programs
ORGANIZER;CN="Pam Pellizzari":MAILTO:ppellizzari@bacoa.org
END:VEVENT
BEGIN:VEVENT
DTSTART;TZID=America/Chicago:20260928T100000
DTEND;TZID=America/Chicago:20260928T143000
DTSTAMP:20260425T140742
CREATED:20250915T144459Z
LAST-MODIFIED:20250915T144504Z
UID:10002952-1790589600-1790605800@bacoa.org
SUMMARY:'A Day Out' Adult Program
DESCRIPTION:A social model program designed to address challenges of living with dementia by providing a structured\, engaging\, and strength-based environment for people living with early-stage Alzheimer’s Disease and related dementias. \n\n\n\nPRE-EVALUATION IS REQUIRED BEFORE PARTICIPATION
URL:https://bacoa.org/event/a-day-out-adult-program-4/2026-09-28/
LOCATION:Lutheran Church of the Atonement\, 909 E Main St\, Barrington\, Illinois\, 60010\, United States
CATEGORIES:Memory Programs
ORGANIZER;CN="Pam Pellizzari":MAILTO:ppellizzari@bacoa.org
END:VEVENT
END:VCALENDAR