BEGIN:VCALENDAR
VERSION:2.0
PRODID:-//Bacoa - ECPv6.15.20//NONSGML v1.0//EN
CALSCALE:GREGORIAN
METHOD:PUBLISH
X-ORIGINAL-URL:https://bacoa.org
X-WR-CALDESC:Events for Bacoa
REFRESH-INTERVAL;VALUE=DURATION:PT1H
X-Robots-Tag:noindex
X-PUBLISHED-TTL:PT1H
BEGIN:VTIMEZONE
TZID:America/Chicago
BEGIN:DAYLIGHT
TZOFFSETFROM:-0600
TZOFFSETTO:-0500
TZNAME:CDT
DTSTART:20250309T080000
END:DAYLIGHT
BEGIN:STANDARD
TZOFFSETFROM:-0500
TZOFFSETTO:-0600
TZNAME:CST
DTSTART:20251102T070000
END:STANDARD
BEGIN:DAYLIGHT
TZOFFSETFROM:-0600
TZOFFSETTO:-0500
TZNAME:CDT
DTSTART:20260308T080000
END:DAYLIGHT
BEGIN:STANDARD
TZOFFSETFROM:-0500
TZOFFSETTO:-0600
TZNAME:CST
DTSTART:20261101T070000
END:STANDARD
BEGIN:DAYLIGHT
TZOFFSETFROM:-0600
TZOFFSETTO:-0500
TZNAME:CDT
DTSTART:20270314T080000
END:DAYLIGHT
BEGIN:STANDARD
TZOFFSETFROM:-0500
TZOFFSETTO:-0600
TZNAME:CST
DTSTART:20271107T070000
END:STANDARD
END:VTIMEZONE
BEGIN:VEVENT
DTSTART;TZID=America/Chicago:20260601T100000
DTEND;TZID=America/Chicago:20260601T143000
DTSTAMP:20260421T081540
CREATED:20250915T144459Z
LAST-MODIFIED:20250915T144504Z
UID:10003014-1780308000-1780324200@bacoa.org
SUMMARY:'A Day Out' Adult Program
DESCRIPTION:A social model program designed to address challenges of living with dementia by providing a structured\, engaging\, and strength-based environment for people living with early-stage Alzheimer’s Disease and related dementias. \n\n\n\nPRE-EVALUATION IS REQUIRED BEFORE PARTICIPATION
URL:https://bacoa.org/event/a-day-out-adult-program-4/2026-06-01/
LOCATION:Lutheran Church of the Atonement\, 909 E Main St\, Barrington\, Illinois\, 60010\, United States
CATEGORIES:Memory Programs
ORGANIZER;CN="Pam Pellizzari":MAILTO:ppellizzari@bacoa.org
END:VEVENT
BEGIN:VEVENT
DTSTART;TZID=America/Chicago:20260604T100000
DTEND;TZID=America/Chicago:20260604T143000
DTSTAMP:20260421T081540
CREATED:20250915T144459Z
LAST-MODIFIED:20250915T144504Z
UID:10000115-1780567200-1780583400@bacoa.org
SUMMARY:'A Day Out' Adult Program
DESCRIPTION:A social model program designed to address challenges of living with dementia by providing a structured\, engaging\, and strength-based environment for people living with early-stage Alzheimer’s Disease and related dementias. \n\n\n\nPRE-EVALUATION IS REQUIRED BEFORE PARTICIPATION
URL:https://bacoa.org/event/a-day-out-adult-program-4/2026-06-04/
LOCATION:Lutheran Church of the Atonement\, 909 E Main St\, Barrington\, Illinois\, 60010\, United States
CATEGORIES:Memory Programs
ORGANIZER;CN="Pam Pellizzari":MAILTO:ppellizzari@bacoa.org
END:VEVENT
BEGIN:VEVENT
DTSTART;TZID=America/Chicago:20260608T100000
DTEND;TZID=America/Chicago:20260608T143000
DTSTAMP:20260421T081540
CREATED:20250915T144459Z
LAST-MODIFIED:20250915T144504Z
UID:10000376-1780912800-1780929000@bacoa.org
SUMMARY:'A Day Out' Adult Program
DESCRIPTION:A social model program designed to address challenges of living with dementia by providing a structured\, engaging\, and strength-based environment for people living with early-stage Alzheimer’s Disease and related dementias. \n\n\n\nPRE-EVALUATION IS REQUIRED BEFORE PARTICIPATION
URL:https://bacoa.org/event/a-day-out-adult-program-4/2026-06-08/
LOCATION:Lutheran Church of the Atonement\, 909 E Main St\, Barrington\, Illinois\, 60010\, United States
CATEGORIES:Memory Programs
ORGANIZER;CN="Pam Pellizzari":MAILTO:ppellizzari@bacoa.org
END:VEVENT
BEGIN:VEVENT
DTSTART;TZID=America/Chicago:20260611T100000
DTEND;TZID=America/Chicago:20260611T143000
DTSTAMP:20260421T081540
CREATED:20250915T144459Z
LAST-MODIFIED:20250915T144504Z
UID:10000116-1781172000-1781188200@bacoa.org
SUMMARY:'A Day Out' Adult Program
DESCRIPTION:A social model program designed to address challenges of living with dementia by providing a structured\, engaging\, and strength-based environment for people living with early-stage Alzheimer’s Disease and related dementias. \n\n\n\nPRE-EVALUATION IS REQUIRED BEFORE PARTICIPATION
URL:https://bacoa.org/event/a-day-out-adult-program-4/2026-06-11/
LOCATION:Lutheran Church of the Atonement\, 909 E Main St\, Barrington\, Illinois\, 60010\, United States
CATEGORIES:Memory Programs
ORGANIZER;CN="Pam Pellizzari":MAILTO:ppellizzari@bacoa.org
END:VEVENT
BEGIN:VEVENT
DTSTART;TZID=America/Chicago:20260615T100000
DTEND;TZID=America/Chicago:20260615T143000
DTSTAMP:20260421T081540
CREATED:20250915T144459Z
LAST-MODIFIED:20250915T144504Z
UID:10004642-1781517600-1781533800@bacoa.org
SUMMARY:'A Day Out' Adult Program
DESCRIPTION:A social model program designed to address challenges of living with dementia by providing a structured\, engaging\, and strength-based environment for people living with early-stage Alzheimer’s Disease and related dementias. \n\n\n\nPRE-EVALUATION IS REQUIRED BEFORE PARTICIPATION
URL:https://bacoa.org/event/a-day-out-adult-program-4/2026-06-15/
LOCATION:Lutheran Church of the Atonement\, 909 E Main St\, Barrington\, Illinois\, 60010\, United States
CATEGORIES:Memory Programs
ORGANIZER;CN="Pam Pellizzari":MAILTO:ppellizzari@bacoa.org
END:VEVENT
BEGIN:VEVENT
DTSTART;TZID=America/Chicago:20260616T100000
DTEND;TZID=America/Chicago:20260616T233000
DTSTAMP:20260421T081540
CREATED:20260416T151312Z
LAST-MODIFIED:20260416T151316Z
UID:10004308-1781604000-1781652600@bacoa.org
SUMMARY:Memory Café
DESCRIPTION:Participants with memory loss and their care companions can take part in fun activities in a relaxed setting while making new friends and offering support to each other. This session: Visit with Morkes Chocolates Huntley\, IL \n\n\n\nPlease call Ela Library to register: 847-438-3433
URL:https://bacoa.org/event/memory-cafe-9/
LOCATION:Ela Area Public Library\, 275 Mohawk Trail\, Lake Zurich\, Illinois\, 60047\, United States
CATEGORIES:Memory Programs
ORGANIZER;CN="Pam Pellizzari":MAILTO:ppellizzari@bacoa.org
END:VEVENT
BEGIN:VEVENT
DTSTART;TZID=America/Chicago:20260618T100000
DTEND;TZID=America/Chicago:20260618T143000
DTSTAMP:20260421T081540
CREATED:20250915T144459Z
LAST-MODIFIED:20250915T144504Z
UID:10000117-1781776800-1781793000@bacoa.org
SUMMARY:'A Day Out' Adult Program
DESCRIPTION:A social model program designed to address challenges of living with dementia by providing a structured\, engaging\, and strength-based environment for people living with early-stage Alzheimer’s Disease and related dementias. \n\n\n\nPRE-EVALUATION IS REQUIRED BEFORE PARTICIPATION
URL:https://bacoa.org/event/a-day-out-adult-program-4/2026-06-18/
LOCATION:Lutheran Church of the Atonement\, 909 E Main St\, Barrington\, Illinois\, 60010\, United States
CATEGORIES:Memory Programs
ORGANIZER;CN="Pam Pellizzari":MAILTO:ppellizzari@bacoa.org
END:VEVENT
BEGIN:VEVENT
DTSTART;TZID=America/Chicago:20260622T100000
DTEND;TZID=America/Chicago:20260622T143000
DTSTAMP:20260421T081540
CREATED:20250915T144459Z
LAST-MODIFIED:20250915T144504Z
UID:10000378-1782122400-1782138600@bacoa.org
SUMMARY:'A Day Out' Adult Program
DESCRIPTION:A social model program designed to address challenges of living with dementia by providing a structured\, engaging\, and strength-based environment for people living with early-stage Alzheimer’s Disease and related dementias. \n\n\n\nPRE-EVALUATION IS REQUIRED BEFORE PARTICIPATION
URL:https://bacoa.org/event/a-day-out-adult-program-4/2026-06-22/
LOCATION:Lutheran Church of the Atonement\, 909 E Main St\, Barrington\, Illinois\, 60010\, United States
CATEGORIES:Memory Programs
ORGANIZER;CN="Pam Pellizzari":MAILTO:ppellizzari@bacoa.org
END:VEVENT
BEGIN:VEVENT
DTSTART;TZID=America/Chicago:20260625T100000
DTEND;TZID=America/Chicago:20260625T143000
DTSTAMP:20260421T081540
CREATED:20250915T144459Z
LAST-MODIFIED:20250915T144504Z
UID:10000118-1782381600-1782397800@bacoa.org
SUMMARY:'A Day Out' Adult Program
DESCRIPTION:A social model program designed to address challenges of living with dementia by providing a structured\, engaging\, and strength-based environment for people living with early-stage Alzheimer’s Disease and related dementias. \n\n\n\nPRE-EVALUATION IS REQUIRED BEFORE PARTICIPATION
URL:https://bacoa.org/event/a-day-out-adult-program-4/2026-06-25/
LOCATION:Lutheran Church of the Atonement\, 909 E Main St\, Barrington\, Illinois\, 60010\, United States
CATEGORIES:Memory Programs
ORGANIZER;CN="Pam Pellizzari":MAILTO:ppellizzari@bacoa.org
END:VEVENT
BEGIN:VEVENT
DTSTART;TZID=America/Chicago:20260629T100000
DTEND;TZID=America/Chicago:20260629T143000
DTSTAMP:20260421T081540
CREATED:20250915T144459Z
LAST-MODIFIED:20250915T144504Z
UID:10003015-1782727200-1782743400@bacoa.org
SUMMARY:'A Day Out' Adult Program
DESCRIPTION:A social model program designed to address challenges of living with dementia by providing a structured\, engaging\, and strength-based environment for people living with early-stage Alzheimer’s Disease and related dementias. \n\n\n\nPRE-EVALUATION IS REQUIRED BEFORE PARTICIPATION
URL:https://bacoa.org/event/a-day-out-adult-program-4/2026-06-29/
LOCATION:Lutheran Church of the Atonement\, 909 E Main St\, Barrington\, Illinois\, 60010\, United States
CATEGORIES:Memory Programs
ORGANIZER;CN="Pam Pellizzari":MAILTO:ppellizzari@bacoa.org
END:VEVENT
END:VCALENDAR