BEGIN:VCALENDAR
VERSION:2.0
PRODID:-//Bacoa - ECPv6.15.20//NONSGML v1.0//EN
CALSCALE:GREGORIAN
METHOD:PUBLISH
X-WR-CALNAME:Bacoa
X-ORIGINAL-URL:https://bacoa.org
X-WR-CALDESC:Events for Bacoa
REFRESH-INTERVAL;VALUE=DURATION:PT1H
X-Robots-Tag:noindex
X-PUBLISHED-TTL:PT1H
BEGIN:VTIMEZONE
TZID:America/Chicago
BEGIN:DAYLIGHT
TZOFFSETFROM:-0600
TZOFFSETTO:-0500
TZNAME:CDT
DTSTART:20240310T080000
END:DAYLIGHT
BEGIN:STANDARD
TZOFFSETFROM:-0500
TZOFFSETTO:-0600
TZNAME:CST
DTSTART:20241103T070000
END:STANDARD
BEGIN:DAYLIGHT
TZOFFSETFROM:-0600
TZOFFSETTO:-0500
TZNAME:CDT
DTSTART:20250309T080000
END:DAYLIGHT
BEGIN:STANDARD
TZOFFSETFROM:-0500
TZOFFSETTO:-0600
TZNAME:CST
DTSTART:20251102T070000
END:STANDARD
BEGIN:DAYLIGHT
TZOFFSETFROM:-0600
TZOFFSETTO:-0500
TZNAME:CDT
DTSTART:20260308T080000
END:DAYLIGHT
BEGIN:STANDARD
TZOFFSETFROM:-0500
TZOFFSETTO:-0600
TZNAME:CST
DTSTART:20261101T070000
END:STANDARD
END:VTIMEZONE
BEGIN:VEVENT
DTSTART;TZID=America/Chicago:20250501T100000
DTEND;TZID=America/Chicago:20250501T143000
DTSTAMP:20260422T014505
CREATED:20241011T204255Z
LAST-MODIFIED:20250507T211219Z
UID:10000058-1746093600-1746109800@bacoa.org
SUMMARY:'A Day Out' Adult Program
DESCRIPTION:A social model program designed to address challenges of living with dementia by providing a structured\, engaging\, and strength-based environment for people living with early-stage Alzheimer’s Disease and related dementias. \n\n\n\nPRE-EVALUATION IS REQUIRED BEFORE PARTICIPATION
URL:https://bacoa.org/event/a-day-out-adult-program/2025-05-01/
LOCATION:Lutheran Church of the Atonement\, 909 E Main St\, Barrington\, Illinois\, 60010\, United States
CATEGORIES:Memory Programs
ORGANIZER;CN="Pam Pellizzari":MAILTO:ppellizzari@bacoa.org
END:VEVENT
BEGIN:VEVENT
DTSTART;TZID=America/Chicago:20250505T100000
DTEND;TZID=America/Chicago:20250505T143000
DTSTAMP:20260422T014505
CREATED:20241011T204255Z
LAST-MODIFIED:20250507T211219Z
UID:10003000-1746439200-1746455400@bacoa.org
SUMMARY:'A Day Out' Adult Program
DESCRIPTION:A social model program designed to address challenges of living with dementia by providing a structured\, engaging\, and strength-based environment for people living with early-stage Alzheimer’s Disease and related dementias. \n\n\n\nPRE-EVALUATION IS REQUIRED BEFORE PARTICIPATION
URL:https://bacoa.org/event/a-day-out-adult-program/2025-05-05/
LOCATION:Lutheran Church of the Atonement\, 909 E Main St\, Barrington\, Illinois\, 60010\, United States
CATEGORIES:Memory Programs
ORGANIZER;CN="Pam Pellizzari":MAILTO:ppellizzari@bacoa.org
END:VEVENT
BEGIN:VEVENT
DTSTART;TZID=America/Chicago:20250508T100000
DTEND;TZID=America/Chicago:20250508T143000
DTSTAMP:20260422T014505
CREATED:20241011T204255Z
LAST-MODIFIED:20250507T211219Z
UID:10000059-1746698400-1746714600@bacoa.org
SUMMARY:'A Day Out' Adult Program
DESCRIPTION:A social model program designed to address challenges of living with dementia by providing a structured\, engaging\, and strength-based environment for people living with early-stage Alzheimer’s Disease and related dementias. \n\n\n\nPRE-EVALUATION IS REQUIRED BEFORE PARTICIPATION
URL:https://bacoa.org/event/a-day-out-adult-program/2025-05-08/
LOCATION:Lutheran Church of the Atonement\, 909 E Main St\, Barrington\, Illinois\, 60010\, United States
CATEGORIES:Memory Programs
ORGANIZER;CN="Pam Pellizzari":MAILTO:ppellizzari@bacoa.org
END:VEVENT
BEGIN:VEVENT
DTSTART;TZID=America/Chicago:20250512T100000
DTEND;TZID=America/Chicago:20250512T143000
DTSTAMP:20260422T014505
CREATED:20241011T204255Z
LAST-MODIFIED:20250507T211219Z
UID:10002934-1747044000-1747060200@bacoa.org
SUMMARY:'A Day Out' Adult Program
DESCRIPTION:A social model program designed to address challenges of living with dementia by providing a structured\, engaging\, and strength-based environment for people living with early-stage Alzheimer’s Disease and related dementias. \n\n\n\nPRE-EVALUATION IS REQUIRED BEFORE PARTICIPATION
URL:https://bacoa.org/event/a-day-out-adult-program/2025-05-12/
LOCATION:Lutheran Church of the Atonement\, 909 E Main St\, Barrington\, Illinois\, 60010\, United States
CATEGORIES:Memory Programs
ORGANIZER;CN="Pam Pellizzari":MAILTO:ppellizzari@bacoa.org
END:VEVENT
BEGIN:VEVENT
DTSTART;TZID=America/Chicago:20250515T100000
DTEND;TZID=America/Chicago:20250515T143000
DTSTAMP:20260422T014505
CREATED:20241011T204255Z
LAST-MODIFIED:20250507T211219Z
UID:10000060-1747303200-1747319400@bacoa.org
SUMMARY:'A Day Out' Adult Program
DESCRIPTION:A social model program designed to address challenges of living with dementia by providing a structured\, engaging\, and strength-based environment for people living with early-stage Alzheimer’s Disease and related dementias. \n\n\n\nPRE-EVALUATION IS REQUIRED BEFORE PARTICIPATION
URL:https://bacoa.org/event/a-day-out-adult-program/2025-05-15/
LOCATION:Lutheran Church of the Atonement\, 909 E Main St\, Barrington\, Illinois\, 60010\, United States
CATEGORIES:Memory Programs
ORGANIZER;CN="Pam Pellizzari":MAILTO:ppellizzari@bacoa.org
END:VEVENT
BEGIN:VEVENT
DTSTART;TZID=America/Chicago:20250520T100000
DTEND;TZID=America/Chicago:20250520T233000
DTSTAMP:20260422T014505
CREATED:20240408T162236Z
LAST-MODIFIED:20250508T150607Z
UID:10004295-1747735200-1747783800@bacoa.org
SUMMARY:Memory Café
DESCRIPTION:Participants with memory loss and their care companions can take part in fun activities in a relaxed setting while making new friends and offering support to each other. \n\n\n\nPlease call Ela Library to register
URL:https://bacoa.org/event/memory-cafe/2025-05-20/
LOCATION:Ela Area Public Library\, 275 Mohawk Trail\, Lake Zurich\, Illinois\, 60047\, United States
CATEGORIES:Memory Programs
ORGANIZER;CN="Pam Pellizzari":MAILTO:ppellizzari@bacoa.org
END:VEVENT
BEGIN:VEVENT
DTSTART;TZID=America/Chicago:20250522T100000
DTEND;TZID=America/Chicago:20250522T143000
DTSTAMP:20260422T014505
CREATED:20241011T204255Z
LAST-MODIFIED:20250507T211219Z
UID:10000061-1747908000-1747924200@bacoa.org
SUMMARY:'A Day Out' Adult Program
DESCRIPTION:A social model program designed to address challenges of living with dementia by providing a structured\, engaging\, and strength-based environment for people living with early-stage Alzheimer’s Disease and related dementias. \n\n\n\nPRE-EVALUATION IS REQUIRED BEFORE PARTICIPATION
URL:https://bacoa.org/event/a-day-out-adult-program/2025-05-22/
LOCATION:Lutheran Church of the Atonement\, 909 E Main St\, Barrington\, Illinois\, 60010\, United States
CATEGORIES:Memory Programs
ORGANIZER;CN="Pam Pellizzari":MAILTO:ppellizzari@bacoa.org
END:VEVENT
BEGIN:VEVENT
DTSTART;TZID=America/Chicago:20250529T100000
DTEND;TZID=America/Chicago:20250529T143000
DTSTAMP:20260422T014505
CREATED:20241011T204255Z
LAST-MODIFIED:20250507T211219Z
UID:10000062-1748512800-1748529000@bacoa.org
SUMMARY:'A Day Out' Adult Program
DESCRIPTION:A social model program designed to address challenges of living with dementia by providing a structured\, engaging\, and strength-based environment for people living with early-stage Alzheimer’s Disease and related dementias. \n\n\n\nPRE-EVALUATION IS REQUIRED BEFORE PARTICIPATION
URL:https://bacoa.org/event/a-day-out-adult-program/2025-05-29/
LOCATION:Lutheran Church of the Atonement\, 909 E Main St\, Barrington\, Illinois\, 60010\, United States
CATEGORIES:Memory Programs
ORGANIZER;CN="Pam Pellizzari":MAILTO:ppellizzari@bacoa.org
END:VEVENT
END:VCALENDAR