BEGIN:VCALENDAR
VERSION:2.0
PRODID:-//Bacoa - ECPv6.15.20//NONSGML v1.0//EN
CALSCALE:GREGORIAN
METHOD:PUBLISH
X-ORIGINAL-URL:https://bacoa.org
X-WR-CALDESC:Events for Bacoa
REFRESH-INTERVAL;VALUE=DURATION:PT1H
X-Robots-Tag:noindex
X-PUBLISHED-TTL:PT1H
BEGIN:VTIMEZONE
TZID:America/Chicago
BEGIN:DAYLIGHT
TZOFFSETFROM:-0600
TZOFFSETTO:-0500
TZNAME:CDT
DTSTART:20270314T080000
END:DAYLIGHT
BEGIN:STANDARD
TZOFFSETFROM:-0500
TZOFFSETTO:-0600
TZNAME:CST
DTSTART:20271107T070000
END:STANDARD
BEGIN:DAYLIGHT
TZOFFSETFROM:-0600
TZOFFSETTO:-0500
TZNAME:CDT
DTSTART:20280312T080000
END:DAYLIGHT
BEGIN:STANDARD
TZOFFSETFROM:-0500
TZOFFSETTO:-0600
TZNAME:CST
DTSTART:20281105T070000
END:STANDARD
BEGIN:DAYLIGHT
TZOFFSETFROM:-0600
TZOFFSETTO:-0500
TZNAME:CDT
DTSTART:20290311T080000
END:DAYLIGHT
BEGIN:STANDARD
TZOFFSETFROM:-0500
TZOFFSETTO:-0600
TZNAME:CST
DTSTART:20291104T070000
END:STANDARD
END:VTIMEZONE
BEGIN:VEVENT
DTSTART;TZID=America/Chicago:20280627T110000
DTEND;TZID=America/Chicago:20280627T120000
DTSTAMP:20260419T063610
CREATED:20240904T194905Z
LAST-MODIFIED:20260223T161346Z
UID:10001786-1845716400-1845720000@bacoa.org
SUMMARY:Virtual Bingo
DESCRIPTION:Weekly virtual bingo. Three prizes given away each week!  \n\n\n\n\n\n\n\nContact Janine for Zoom link
URL:https://bacoa.org/event/virtual-bingo-3/2028-06-27/
CATEGORIES:Active Aging
ORGANIZER;CN="Janine O%E2%80%99Leary":MAILTO:joleary@bacoa.org
LOCATION:https://bacoa.org/event/virtual-bingo-3/2028-06-27/
END:VEVENT
BEGIN:VEVENT
DTSTART;TZID=America/Chicago:20280703T104500
DTEND;TZID=America/Chicago:20280703T130000
DTSTAMP:20260419T063610
CREATED:20240417T171748Z
LAST-MODIFIED:20260223T164247Z
UID:10001265-1846233900-1846242000@bacoa.org
SUMMARY:Lunch and Bingo
DESCRIPTION:Weekly congregate lunch and 1-hour bingo program at Barrington Park District.Bingo and Panera lunch: $12; bingo only: $3. \n\n\n\nRegistration is required. Pay before or at the event.
URL:https://bacoa.org/event/lunch-and-bingo-2/2028-07-03/
LOCATION:Barrington Park District\, 235 Lions Dr\, Barrington\, IL\, 60010\, United States
CATEGORIES:Active Aging
ORGANIZER;CN="Janine O%E2%80%99Leary":MAILTO:joleary@bacoa.org
END:VEVENT
BEGIN:VEVENT
DTSTART;TZID=America/Chicago:20280704T110000
DTEND;TZID=America/Chicago:20280704T120000
DTSTAMP:20260419T063610
CREATED:20240904T194905Z
LAST-MODIFIED:20260223T161346Z
UID:10001787-1846321200-1846324800@bacoa.org
SUMMARY:Virtual Bingo
DESCRIPTION:Weekly virtual bingo. Three prizes given away each week!  \n\n\n\n\n\n\n\nContact Janine for Zoom link
URL:https://bacoa.org/event/virtual-bingo-3/2028-07-04/
CATEGORIES:Active Aging
ORGANIZER;CN="Janine O%E2%80%99Leary":MAILTO:joleary@bacoa.org
LOCATION:https://bacoa.org/event/virtual-bingo-3/2028-07-04/
END:VEVENT
BEGIN:VEVENT
DTSTART;TZID=America/Chicago:20280710T104500
DTEND;TZID=America/Chicago:20280710T130000
DTSTAMP:20260419T063610
CREATED:20240417T171748Z
LAST-MODIFIED:20260223T164247Z
UID:10001266-1846838700-1846846800@bacoa.org
SUMMARY:Lunch and Bingo
DESCRIPTION:Weekly congregate lunch and 1-hour bingo program at Barrington Park District.Bingo and Panera lunch: $12; bingo only: $3. \n\n\n\nRegistration is required. Pay before or at the event.
URL:https://bacoa.org/event/lunch-and-bingo-2/2028-07-10/
LOCATION:Barrington Park District\, 235 Lions Dr\, Barrington\, IL\, 60010\, United States
CATEGORIES:Active Aging
ORGANIZER;CN="Janine O%E2%80%99Leary":MAILTO:joleary@bacoa.org
END:VEVENT
BEGIN:VEVENT
DTSTART;TZID=America/Chicago:20280711T110000
DTEND;TZID=America/Chicago:20280711T120000
DTSTAMP:20260419T063610
CREATED:20240904T194905Z
LAST-MODIFIED:20260223T161346Z
UID:10001788-1846926000-1846929600@bacoa.org
SUMMARY:Virtual Bingo
DESCRIPTION:Weekly virtual bingo. Three prizes given away each week!  \n\n\n\n\n\n\n\nContact Janine for Zoom link
URL:https://bacoa.org/event/virtual-bingo-3/2028-07-11/
CATEGORIES:Active Aging
ORGANIZER;CN="Janine O%E2%80%99Leary":MAILTO:joleary@bacoa.org
LOCATION:https://bacoa.org/event/virtual-bingo-3/2028-07-11/
END:VEVENT
BEGIN:VEVENT
DTSTART;TZID=America/Chicago:20280717T104500
DTEND;TZID=America/Chicago:20280717T130000
DTSTAMP:20260419T063610
CREATED:20240417T171748Z
LAST-MODIFIED:20260223T164247Z
UID:10001267-1847443500-1847451600@bacoa.org
SUMMARY:Lunch and Bingo
DESCRIPTION:Weekly congregate lunch and 1-hour bingo program at Barrington Park District.Bingo and Panera lunch: $12; bingo only: $3. \n\n\n\nRegistration is required. Pay before or at the event.
URL:https://bacoa.org/event/lunch-and-bingo-2/2028-07-17/
LOCATION:Barrington Park District\, 235 Lions Dr\, Barrington\, IL\, 60010\, United States
CATEGORIES:Active Aging
ORGANIZER;CN="Janine O%E2%80%99Leary":MAILTO:joleary@bacoa.org
END:VEVENT
BEGIN:VEVENT
DTSTART;TZID=America/Chicago:20280718T110000
DTEND;TZID=America/Chicago:20280718T120000
DTSTAMP:20260419T063610
CREATED:20240904T194905Z
LAST-MODIFIED:20260223T161346Z
UID:10001789-1847530800-1847534400@bacoa.org
SUMMARY:Virtual Bingo
DESCRIPTION:Weekly virtual bingo. Three prizes given away each week!  \n\n\n\n\n\n\n\nContact Janine for Zoom link
URL:https://bacoa.org/event/virtual-bingo-3/2028-07-18/
CATEGORIES:Active Aging
ORGANIZER;CN="Janine O%E2%80%99Leary":MAILTO:joleary@bacoa.org
LOCATION:https://bacoa.org/event/virtual-bingo-3/2028-07-18/
END:VEVENT
BEGIN:VEVENT
DTSTART;TZID=America/Chicago:20280724T104500
DTEND;TZID=America/Chicago:20280724T130000
DTSTAMP:20260419T063610
CREATED:20240417T171748Z
LAST-MODIFIED:20260223T164247Z
UID:10001268-1848048300-1848056400@bacoa.org
SUMMARY:Lunch and Bingo
DESCRIPTION:Weekly congregate lunch and 1-hour bingo program at Barrington Park District.Bingo and Panera lunch: $12; bingo only: $3. \n\n\n\nRegistration is required. Pay before or at the event.
URL:https://bacoa.org/event/lunch-and-bingo-2/2028-07-24/
LOCATION:Barrington Park District\, 235 Lions Dr\, Barrington\, IL\, 60010\, United States
CATEGORIES:Active Aging
ORGANIZER;CN="Janine O%E2%80%99Leary":MAILTO:joleary@bacoa.org
END:VEVENT
BEGIN:VEVENT
DTSTART;TZID=America/Chicago:20280725T110000
DTEND;TZID=America/Chicago:20280725T120000
DTSTAMP:20260419T063610
CREATED:20240904T194905Z
LAST-MODIFIED:20260223T161346Z
UID:10001790-1848135600-1848139200@bacoa.org
SUMMARY:Virtual Bingo
DESCRIPTION:Weekly virtual bingo. Three prizes given away each week!  \n\n\n\n\n\n\n\nContact Janine for Zoom link
URL:https://bacoa.org/event/virtual-bingo-3/2028-07-25/
CATEGORIES:Active Aging
ORGANIZER;CN="Janine O%E2%80%99Leary":MAILTO:joleary@bacoa.org
LOCATION:https://bacoa.org/event/virtual-bingo-3/2028-07-25/
END:VEVENT
BEGIN:VEVENT
DTSTART;TZID=America/Chicago:20280731T104500
DTEND;TZID=America/Chicago:20280731T130000
DTSTAMP:20260419T063610
CREATED:20240417T171748Z
LAST-MODIFIED:20260223T164247Z
UID:10001269-1848653100-1848661200@bacoa.org
SUMMARY:Lunch and Bingo
DESCRIPTION:Weekly congregate lunch and 1-hour bingo program at Barrington Park District.Bingo and Panera lunch: $12; bingo only: $3. \n\n\n\nRegistration is required. Pay before or at the event.
URL:https://bacoa.org/event/lunch-and-bingo-2/2028-07-31/
LOCATION:Barrington Park District\, 235 Lions Dr\, Barrington\, IL\, 60010\, United States
CATEGORIES:Active Aging
ORGANIZER;CN="Janine O%E2%80%99Leary":MAILTO:joleary@bacoa.org
END:VEVENT
BEGIN:VEVENT
DTSTART;TZID=America/Chicago:20280801T110000
DTEND;TZID=America/Chicago:20280801T120000
DTSTAMP:20260419T063610
CREATED:20240904T194905Z
LAST-MODIFIED:20260223T161346Z
UID:10001791-1848740400-1848744000@bacoa.org
SUMMARY:Virtual Bingo
DESCRIPTION:Weekly virtual bingo. Three prizes given away each week!  \n\n\n\n\n\n\n\nContact Janine for Zoom link
URL:https://bacoa.org/event/virtual-bingo-3/2028-08-01/
CATEGORIES:Active Aging
ORGANIZER;CN="Janine O%E2%80%99Leary":MAILTO:joleary@bacoa.org
LOCATION:https://bacoa.org/event/virtual-bingo-3/2028-08-01/
END:VEVENT
BEGIN:VEVENT
DTSTART;TZID=America/Chicago:20280807T104500
DTEND;TZID=America/Chicago:20280807T130000
DTSTAMP:20260419T063610
CREATED:20240417T171748Z
LAST-MODIFIED:20260223T164247Z
UID:10001270-1849257900-1849266000@bacoa.org
SUMMARY:Lunch and Bingo
DESCRIPTION:Weekly congregate lunch and 1-hour bingo program at Barrington Park District.Bingo and Panera lunch: $12; bingo only: $3. \n\n\n\nRegistration is required. Pay before or at the event.
URL:https://bacoa.org/event/lunch-and-bingo-2/2028-08-07/
LOCATION:Barrington Park District\, 235 Lions Dr\, Barrington\, IL\, 60010\, United States
CATEGORIES:Active Aging
ORGANIZER;CN="Janine O%E2%80%99Leary":MAILTO:joleary@bacoa.org
END:VEVENT
BEGIN:VEVENT
DTSTART;TZID=America/Chicago:20280808T110000
DTEND;TZID=America/Chicago:20280808T120000
DTSTAMP:20260419T063610
CREATED:20240904T194905Z
LAST-MODIFIED:20260223T161346Z
UID:10001792-1849345200-1849348800@bacoa.org
SUMMARY:Virtual Bingo
DESCRIPTION:Weekly virtual bingo. Three prizes given away each week!  \n\n\n\n\n\n\n\nContact Janine for Zoom link
URL:https://bacoa.org/event/virtual-bingo-3/2028-08-08/
CATEGORIES:Active Aging
ORGANIZER;CN="Janine O%E2%80%99Leary":MAILTO:joleary@bacoa.org
LOCATION:https://bacoa.org/event/virtual-bingo-3/2028-08-08/
END:VEVENT
BEGIN:VEVENT
DTSTART;TZID=America/Chicago:20280814T104500
DTEND;TZID=America/Chicago:20280814T130000
DTSTAMP:20260419T063610
CREATED:20240417T171748Z
LAST-MODIFIED:20260223T164247Z
UID:10001271-1849862700-1849870800@bacoa.org
SUMMARY:Lunch and Bingo
DESCRIPTION:Weekly congregate lunch and 1-hour bingo program at Barrington Park District.Bingo and Panera lunch: $12; bingo only: $3. \n\n\n\nRegistration is required. Pay before or at the event.
URL:https://bacoa.org/event/lunch-and-bingo-2/2028-08-14/
LOCATION:Barrington Park District\, 235 Lions Dr\, Barrington\, IL\, 60010\, United States
CATEGORIES:Active Aging
ORGANIZER;CN="Janine O%E2%80%99Leary":MAILTO:joleary@bacoa.org
END:VEVENT
BEGIN:VEVENT
DTSTART;TZID=America/Chicago:20280815T110000
DTEND;TZID=America/Chicago:20280815T120000
DTSTAMP:20260419T063610
CREATED:20240904T194905Z
LAST-MODIFIED:20260223T161346Z
UID:10001793-1849950000-1849953600@bacoa.org
SUMMARY:Virtual Bingo
DESCRIPTION:Weekly virtual bingo. Three prizes given away each week!  \n\n\n\n\n\n\n\nContact Janine for Zoom link
URL:https://bacoa.org/event/virtual-bingo-3/2028-08-15/
CATEGORIES:Active Aging
ORGANIZER;CN="Janine O%E2%80%99Leary":MAILTO:joleary@bacoa.org
LOCATION:https://bacoa.org/event/virtual-bingo-3/2028-08-15/
END:VEVENT
BEGIN:VEVENT
DTSTART;TZID=America/Chicago:20280821T104500
DTEND;TZID=America/Chicago:20280821T130000
DTSTAMP:20260419T063610
CREATED:20240417T171748Z
LAST-MODIFIED:20260223T164247Z
UID:10001272-1850467500-1850475600@bacoa.org
SUMMARY:Lunch and Bingo
DESCRIPTION:Weekly congregate lunch and 1-hour bingo program at Barrington Park District.Bingo and Panera lunch: $12; bingo only: $3. \n\n\n\nRegistration is required. Pay before or at the event.
URL:https://bacoa.org/event/lunch-and-bingo-2/2028-08-21/
LOCATION:Barrington Park District\, 235 Lions Dr\, Barrington\, IL\, 60010\, United States
CATEGORIES:Active Aging
ORGANIZER;CN="Janine O%E2%80%99Leary":MAILTO:joleary@bacoa.org
END:VEVENT
BEGIN:VEVENT
DTSTART;TZID=America/Chicago:20280822T110000
DTEND;TZID=America/Chicago:20280822T120000
DTSTAMP:20260419T063610
CREATED:20240904T194905Z
LAST-MODIFIED:20260223T161346Z
UID:10001794-1850554800-1850558400@bacoa.org
SUMMARY:Virtual Bingo
DESCRIPTION:Weekly virtual bingo. Three prizes given away each week!  \n\n\n\n\n\n\n\nContact Janine for Zoom link
URL:https://bacoa.org/event/virtual-bingo-3/2028-08-22/
CATEGORIES:Active Aging
ORGANIZER;CN="Janine O%E2%80%99Leary":MAILTO:joleary@bacoa.org
LOCATION:https://bacoa.org/event/virtual-bingo-3/2028-08-22/
END:VEVENT
BEGIN:VEVENT
DTSTART;TZID=America/Chicago:20280828T104500
DTEND;TZID=America/Chicago:20280828T130000
DTSTAMP:20260419T063610
CREATED:20240417T171748Z
LAST-MODIFIED:20260223T164247Z
UID:10001273-1851072300-1851080400@bacoa.org
SUMMARY:Lunch and Bingo
DESCRIPTION:Weekly congregate lunch and 1-hour bingo program at Barrington Park District.Bingo and Panera lunch: $12; bingo only: $3. \n\n\n\nRegistration is required. Pay before or at the event.
URL:https://bacoa.org/event/lunch-and-bingo-2/2028-08-28/
LOCATION:Barrington Park District\, 235 Lions Dr\, Barrington\, IL\, 60010\, United States
CATEGORIES:Active Aging
ORGANIZER;CN="Janine O%E2%80%99Leary":MAILTO:joleary@bacoa.org
END:VEVENT
BEGIN:VEVENT
DTSTART;TZID=America/Chicago:20280829T110000
DTEND;TZID=America/Chicago:20280829T120000
DTSTAMP:20260419T063610
CREATED:20240904T194905Z
LAST-MODIFIED:20260223T161346Z
UID:10001795-1851159600-1851163200@bacoa.org
SUMMARY:Virtual Bingo
DESCRIPTION:Weekly virtual bingo. Three prizes given away each week!  \n\n\n\n\n\n\n\nContact Janine for Zoom link
URL:https://bacoa.org/event/virtual-bingo-3/2028-08-29/
CATEGORIES:Active Aging
ORGANIZER;CN="Janine O%E2%80%99Leary":MAILTO:joleary@bacoa.org
LOCATION:https://bacoa.org/event/virtual-bingo-3/2028-08-29/
END:VEVENT
BEGIN:VEVENT
DTSTART;TZID=America/Chicago:20280904T104500
DTEND;TZID=America/Chicago:20280904T130000
DTSTAMP:20260419T063610
CREATED:20240417T171748Z
LAST-MODIFIED:20260223T164247Z
UID:10001274-1851677100-1851685200@bacoa.org
SUMMARY:Lunch and Bingo
DESCRIPTION:Weekly congregate lunch and 1-hour bingo program at Barrington Park District.Bingo and Panera lunch: $12; bingo only: $3. \n\n\n\nRegistration is required. Pay before or at the event.
URL:https://bacoa.org/event/lunch-and-bingo-2/2028-09-04/
LOCATION:Barrington Park District\, 235 Lions Dr\, Barrington\, IL\, 60010\, United States
CATEGORIES:Active Aging
ORGANIZER;CN="Janine O%E2%80%99Leary":MAILTO:joleary@bacoa.org
END:VEVENT
BEGIN:VEVENT
DTSTART;TZID=America/Chicago:20280905T110000
DTEND;TZID=America/Chicago:20280905T120000
DTSTAMP:20260419T063610
CREATED:20240904T194905Z
LAST-MODIFIED:20260223T161346Z
UID:10001796-1851764400-1851768000@bacoa.org
SUMMARY:Virtual Bingo
DESCRIPTION:Weekly virtual bingo. Three prizes given away each week!  \n\n\n\n\n\n\n\nContact Janine for Zoom link
URL:https://bacoa.org/event/virtual-bingo-3/2028-09-05/
CATEGORIES:Active Aging
ORGANIZER;CN="Janine O%E2%80%99Leary":MAILTO:joleary@bacoa.org
LOCATION:https://bacoa.org/event/virtual-bingo-3/2028-09-05/
END:VEVENT
BEGIN:VEVENT
DTSTART;TZID=America/Chicago:20280911T104500
DTEND;TZID=America/Chicago:20280911T130000
DTSTAMP:20260419T063610
CREATED:20240417T171748Z
LAST-MODIFIED:20260223T164247Z
UID:10001275-1852281900-1852290000@bacoa.org
SUMMARY:Lunch and Bingo
DESCRIPTION:Weekly congregate lunch and 1-hour bingo program at Barrington Park District.Bingo and Panera lunch: $12; bingo only: $3. \n\n\n\nRegistration is required. Pay before or at the event.
URL:https://bacoa.org/event/lunch-and-bingo-2/2028-09-11/
LOCATION:Barrington Park District\, 235 Lions Dr\, Barrington\, IL\, 60010\, United States
CATEGORIES:Active Aging
ORGANIZER;CN="Janine O%E2%80%99Leary":MAILTO:joleary@bacoa.org
END:VEVENT
BEGIN:VEVENT
DTSTART;TZID=America/Chicago:20280912T110000
DTEND;TZID=America/Chicago:20280912T120000
DTSTAMP:20260419T063610
CREATED:20240904T194905Z
LAST-MODIFIED:20260223T161346Z
UID:10001797-1852369200-1852372800@bacoa.org
SUMMARY:Virtual Bingo
DESCRIPTION:Weekly virtual bingo. Three prizes given away each week!  \n\n\n\n\n\n\n\nContact Janine for Zoom link
URL:https://bacoa.org/event/virtual-bingo-3/2028-09-12/
CATEGORIES:Active Aging
ORGANIZER;CN="Janine O%E2%80%99Leary":MAILTO:joleary@bacoa.org
LOCATION:https://bacoa.org/event/virtual-bingo-3/2028-09-12/
END:VEVENT
BEGIN:VEVENT
DTSTART;TZID=America/Chicago:20280918T104500
DTEND;TZID=America/Chicago:20280918T130000
DTSTAMP:20260419T063610
CREATED:20240417T171748Z
LAST-MODIFIED:20260223T164247Z
UID:10001276-1852886700-1852894800@bacoa.org
SUMMARY:Lunch and Bingo
DESCRIPTION:Weekly congregate lunch and 1-hour bingo program at Barrington Park District.Bingo and Panera lunch: $12; bingo only: $3. \n\n\n\nRegistration is required. Pay before or at the event.
URL:https://bacoa.org/event/lunch-and-bingo-2/2028-09-18/
LOCATION:Barrington Park District\, 235 Lions Dr\, Barrington\, IL\, 60010\, United States
CATEGORIES:Active Aging
ORGANIZER;CN="Janine O%E2%80%99Leary":MAILTO:joleary@bacoa.org
END:VEVENT
BEGIN:VEVENT
DTSTART;TZID=America/Chicago:20280919T110000
DTEND;TZID=America/Chicago:20280919T120000
DTSTAMP:20260419T063610
CREATED:20240904T194905Z
LAST-MODIFIED:20260223T161346Z
UID:10001798-1852974000-1852977600@bacoa.org
SUMMARY:Virtual Bingo
DESCRIPTION:Weekly virtual bingo. Three prizes given away each week!  \n\n\n\n\n\n\n\nContact Janine for Zoom link
URL:https://bacoa.org/event/virtual-bingo-3/2028-09-19/
CATEGORIES:Active Aging
ORGANIZER;CN="Janine O%E2%80%99Leary":MAILTO:joleary@bacoa.org
LOCATION:https://bacoa.org/event/virtual-bingo-3/2028-09-19/
END:VEVENT
BEGIN:VEVENT
DTSTART;TZID=America/Chicago:20280925T104500
DTEND;TZID=America/Chicago:20280925T130000
DTSTAMP:20260419T063610
CREATED:20240417T171748Z
LAST-MODIFIED:20260223T164247Z
UID:10001277-1853491500-1853499600@bacoa.org
SUMMARY:Lunch and Bingo
DESCRIPTION:Weekly congregate lunch and 1-hour bingo program at Barrington Park District.Bingo and Panera lunch: $12; bingo only: $3. \n\n\n\nRegistration is required. Pay before or at the event.
URL:https://bacoa.org/event/lunch-and-bingo-2/2028-09-25/
LOCATION:Barrington Park District\, 235 Lions Dr\, Barrington\, IL\, 60010\, United States
CATEGORIES:Active Aging
ORGANIZER;CN="Janine O%E2%80%99Leary":MAILTO:joleary@bacoa.org
END:VEVENT
BEGIN:VEVENT
DTSTART;TZID=America/Chicago:20280926T110000
DTEND;TZID=America/Chicago:20280926T120000
DTSTAMP:20260419T063610
CREATED:20240904T194905Z
LAST-MODIFIED:20260223T161346Z
UID:10001799-1853578800-1853582400@bacoa.org
SUMMARY:Virtual Bingo
DESCRIPTION:Weekly virtual bingo. Three prizes given away each week!  \n\n\n\n\n\n\n\nContact Janine for Zoom link
URL:https://bacoa.org/event/virtual-bingo-3/2028-09-26/
CATEGORIES:Active Aging
ORGANIZER;CN="Janine O%E2%80%99Leary":MAILTO:joleary@bacoa.org
LOCATION:https://bacoa.org/event/virtual-bingo-3/2028-09-26/
END:VEVENT
BEGIN:VEVENT
DTSTART;TZID=America/Chicago:20281002T104500
DTEND;TZID=America/Chicago:20281002T130000
DTSTAMP:20260419T063610
CREATED:20240417T171748Z
LAST-MODIFIED:20260223T164247Z
UID:10001278-1854096300-1854104400@bacoa.org
SUMMARY:Lunch and Bingo
DESCRIPTION:Weekly congregate lunch and 1-hour bingo program at Barrington Park District.Bingo and Panera lunch: $12; bingo only: $3. \n\n\n\nRegistration is required. Pay before or at the event.
URL:https://bacoa.org/event/lunch-and-bingo-2/2028-10-02/
LOCATION:Barrington Park District\, 235 Lions Dr\, Barrington\, IL\, 60010\, United States
CATEGORIES:Active Aging
ORGANIZER;CN="Janine O%E2%80%99Leary":MAILTO:joleary@bacoa.org
END:VEVENT
BEGIN:VEVENT
DTSTART;TZID=America/Chicago:20281003T110000
DTEND;TZID=America/Chicago:20281003T120000
DTSTAMP:20260419T063610
CREATED:20240904T194905Z
LAST-MODIFIED:20260223T161346Z
UID:10001800-1854183600-1854187200@bacoa.org
SUMMARY:Virtual Bingo
DESCRIPTION:Weekly virtual bingo. Three prizes given away each week!  \n\n\n\n\n\n\n\nContact Janine for Zoom link
URL:https://bacoa.org/event/virtual-bingo-3/2028-10-03/
CATEGORIES:Active Aging
ORGANIZER;CN="Janine O%E2%80%99Leary":MAILTO:joleary@bacoa.org
LOCATION:https://bacoa.org/event/virtual-bingo-3/2028-10-03/
END:VEVENT
BEGIN:VEVENT
DTSTART;TZID=America/Chicago:20281009T104500
DTEND;TZID=America/Chicago:20281009T130000
DTSTAMP:20260419T063610
CREATED:20240417T171748Z
LAST-MODIFIED:20260223T164247Z
UID:10001279-1854701100-1854709200@bacoa.org
SUMMARY:Lunch and Bingo
DESCRIPTION:Weekly congregate lunch and 1-hour bingo program at Barrington Park District.Bingo and Panera lunch: $12; bingo only: $3. \n\n\n\nRegistration is required. Pay before or at the event.
URL:https://bacoa.org/event/lunch-and-bingo-2/2028-10-09/
LOCATION:Barrington Park District\, 235 Lions Dr\, Barrington\, IL\, 60010\, United States
CATEGORIES:Active Aging
ORGANIZER;CN="Janine O%E2%80%99Leary":MAILTO:joleary@bacoa.org
END:VEVENT
END:VCALENDAR