BEGIN:VCALENDAR
VERSION:2.0
PRODID:-//Bacoa - ECPv6.15.20//NONSGML v1.0//EN
CALSCALE:GREGORIAN
METHOD:PUBLISH
X-WR-CALNAME:Bacoa
X-ORIGINAL-URL:https://bacoa.org
X-WR-CALDESC:Events for Bacoa
REFRESH-INTERVAL;VALUE=DURATION:PT1H
X-Robots-Tag:noindex
X-PUBLISHED-TTL:PT1H
BEGIN:VTIMEZONE
TZID:America/Chicago
BEGIN:DAYLIGHT
TZOFFSETFROM:-0600
TZOFFSETTO:-0500
TZNAME:CDT
DTSTART:20260308T080000
END:DAYLIGHT
BEGIN:STANDARD
TZOFFSETFROM:-0500
TZOFFSETTO:-0600
TZNAME:CST
DTSTART:20261101T070000
END:STANDARD
BEGIN:DAYLIGHT
TZOFFSETFROM:-0600
TZOFFSETTO:-0500
TZNAME:CDT
DTSTART:20270314T080000
END:DAYLIGHT
BEGIN:STANDARD
TZOFFSETFROM:-0500
TZOFFSETTO:-0600
TZNAME:CST
DTSTART:20271107T070000
END:STANDARD
BEGIN:DAYLIGHT
TZOFFSETFROM:-0600
TZOFFSETTO:-0500
TZNAME:CDT
DTSTART:20280312T080000
END:DAYLIGHT
BEGIN:STANDARD
TZOFFSETFROM:-0500
TZOFFSETTO:-0600
TZNAME:CST
DTSTART:20281105T070000
END:STANDARD
END:VTIMEZONE
BEGIN:VEVENT
DTSTART;TZID=America/Chicago:20270405T104500
DTEND;TZID=America/Chicago:20270405T130000
DTSTAMP:20260423T205540
CREATED:20240417T171748Z
LAST-MODIFIED:20260223T164247Z
UID:10001200-1806921900-1806930000@bacoa.org
SUMMARY:Lunch and Bingo
DESCRIPTION:Weekly congregate lunch and 1-hour bingo program at Barrington Park District.Bingo and Panera lunch: $12; bingo only: $3. \n\n\n\nRegistration is required. Pay before or at the event.
URL:https://bacoa.org/event/lunch-and-bingo-2/2027-04-05/
LOCATION:Barrington Park District\, 235 Lions Dr\, Barrington\, IL\, 60010\, United States
CATEGORIES:Active Aging
ORGANIZER;CN="Janine O%E2%80%99Leary":MAILTO:joleary@bacoa.org
END:VEVENT
BEGIN:VEVENT
DTSTART;TZID=America/Chicago:20270406T110000
DTEND;TZID=America/Chicago:20270406T120000
DTSTAMP:20260423T205540
CREATED:20240904T194905Z
LAST-MODIFIED:20260223T161346Z
UID:10001722-1807009200-1807012800@bacoa.org
SUMMARY:Virtual Bingo
DESCRIPTION:Weekly virtual bingo. Three prizes given away each week!  \n\n\n\n\n\n\n\nContact Janine for Zoom link
URL:https://bacoa.org/event/virtual-bingo-3/2027-04-06/
LOCATION:https://bacoa.org/event/virtual-bingo-3/2027-04-06/
CATEGORIES:Active Aging
ORGANIZER;CN="Janine O%E2%80%99Leary":MAILTO:joleary@bacoa.org
END:VEVENT
BEGIN:VEVENT
DTSTART;TZID=America/Chicago:20270412T104500
DTEND;TZID=America/Chicago:20270412T130000
DTSTAMP:20260423T205540
CREATED:20240417T171748Z
LAST-MODIFIED:20260223T164247Z
UID:10001201-1807526700-1807534800@bacoa.org
SUMMARY:Lunch and Bingo
DESCRIPTION:Weekly congregate lunch and 1-hour bingo program at Barrington Park District.Bingo and Panera lunch: $12; bingo only: $3. \n\n\n\nRegistration is required. Pay before or at the event.
URL:https://bacoa.org/event/lunch-and-bingo-2/2027-04-12/
LOCATION:Barrington Park District\, 235 Lions Dr\, Barrington\, IL\, 60010\, United States
CATEGORIES:Active Aging
ORGANIZER;CN="Janine O%E2%80%99Leary":MAILTO:joleary@bacoa.org
END:VEVENT
BEGIN:VEVENT
DTSTART;TZID=America/Chicago:20270413T110000
DTEND;TZID=America/Chicago:20270413T120000
DTSTAMP:20260423T205540
CREATED:20240904T194905Z
LAST-MODIFIED:20260223T161346Z
UID:10001723-1807614000-1807617600@bacoa.org
SUMMARY:Virtual Bingo
DESCRIPTION:Weekly virtual bingo. Three prizes given away each week!  \n\n\n\n\n\n\n\nContact Janine for Zoom link
URL:https://bacoa.org/event/virtual-bingo-3/2027-04-13/
LOCATION:https://bacoa.org/event/virtual-bingo-3/2027-04-13/
CATEGORIES:Active Aging
ORGANIZER;CN="Janine O%E2%80%99Leary":MAILTO:joleary@bacoa.org
END:VEVENT
BEGIN:VEVENT
DTSTART;TZID=America/Chicago:20270419T104500
DTEND;TZID=America/Chicago:20270419T130000
DTSTAMP:20260423T205540
CREATED:20240417T171748Z
LAST-MODIFIED:20260223T164247Z
UID:10001202-1808131500-1808139600@bacoa.org
SUMMARY:Lunch and Bingo
DESCRIPTION:Weekly congregate lunch and 1-hour bingo program at Barrington Park District.Bingo and Panera lunch: $12; bingo only: $3. \n\n\n\nRegistration is required. Pay before or at the event.
URL:https://bacoa.org/event/lunch-and-bingo-2/2027-04-19/
LOCATION:Barrington Park District\, 235 Lions Dr\, Barrington\, IL\, 60010\, United States
CATEGORIES:Active Aging
ORGANIZER;CN="Janine O%E2%80%99Leary":MAILTO:joleary@bacoa.org
END:VEVENT
BEGIN:VEVENT
DTSTART;TZID=America/Chicago:20270420T110000
DTEND;TZID=America/Chicago:20270420T120000
DTSTAMP:20260423T205540
CREATED:20240904T194905Z
LAST-MODIFIED:20260223T161346Z
UID:10001724-1808218800-1808222400@bacoa.org
SUMMARY:Virtual Bingo
DESCRIPTION:Weekly virtual bingo. Three prizes given away each week!  \n\n\n\n\n\n\n\nContact Janine for Zoom link
URL:https://bacoa.org/event/virtual-bingo-3/2027-04-20/
LOCATION:https://bacoa.org/event/virtual-bingo-3/2027-04-20/
CATEGORIES:Active Aging
ORGANIZER;CN="Janine O%E2%80%99Leary":MAILTO:joleary@bacoa.org
END:VEVENT
BEGIN:VEVENT
DTSTART;TZID=America/Chicago:20270426T104500
DTEND;TZID=America/Chicago:20270426T130000
DTSTAMP:20260423T205540
CREATED:20240417T171748Z
LAST-MODIFIED:20260223T164247Z
UID:10001203-1808736300-1808744400@bacoa.org
SUMMARY:Lunch and Bingo
DESCRIPTION:Weekly congregate lunch and 1-hour bingo program at Barrington Park District.Bingo and Panera lunch: $12; bingo only: $3. \n\n\n\nRegistration is required. Pay before or at the event.
URL:https://bacoa.org/event/lunch-and-bingo-2/2027-04-26/
LOCATION:Barrington Park District\, 235 Lions Dr\, Barrington\, IL\, 60010\, United States
CATEGORIES:Active Aging
ORGANIZER;CN="Janine O%E2%80%99Leary":MAILTO:joleary@bacoa.org
END:VEVENT
BEGIN:VEVENT
DTSTART;TZID=America/Chicago:20270427T110000
DTEND;TZID=America/Chicago:20270427T120000
DTSTAMP:20260423T205540
CREATED:20240904T194905Z
LAST-MODIFIED:20260223T161346Z
UID:10001725-1808823600-1808827200@bacoa.org
SUMMARY:Virtual Bingo
DESCRIPTION:Weekly virtual bingo. Three prizes given away each week!  \n\n\n\n\n\n\n\nContact Janine for Zoom link
URL:https://bacoa.org/event/virtual-bingo-3/2027-04-27/
LOCATION:https://bacoa.org/event/virtual-bingo-3/2027-04-27/
CATEGORIES:Active Aging
ORGANIZER;CN="Janine O%E2%80%99Leary":MAILTO:joleary@bacoa.org
END:VEVENT
END:VCALENDAR