BEGIN:VCALENDAR
VERSION:2.0
PRODID:-//Bacoa - ECPv6.15.20//NONSGML v1.0//EN
CALSCALE:GREGORIAN
METHOD:PUBLISH
X-WR-CALNAME:Bacoa
X-ORIGINAL-URL:https://bacoa.org
X-WR-CALDESC:Events for Bacoa
REFRESH-INTERVAL;VALUE=DURATION:PT1H
X-Robots-Tag:noindex
X-PUBLISHED-TTL:PT1H
BEGIN:VTIMEZONE
TZID:America/Chicago
BEGIN:DAYLIGHT
TZOFFSETFROM:-0600
TZOFFSETTO:-0500
TZNAME:CDT
DTSTART:20260308T080000
END:DAYLIGHT
BEGIN:STANDARD
TZOFFSETFROM:-0500
TZOFFSETTO:-0600
TZNAME:CST
DTSTART:20261101T070000
END:STANDARD
BEGIN:DAYLIGHT
TZOFFSETFROM:-0600
TZOFFSETTO:-0500
TZNAME:CDT
DTSTART:20270314T080000
END:DAYLIGHT
BEGIN:STANDARD
TZOFFSETFROM:-0500
TZOFFSETTO:-0600
TZNAME:CST
DTSTART:20271107T070000
END:STANDARD
BEGIN:DAYLIGHT
TZOFFSETFROM:-0600
TZOFFSETTO:-0500
TZNAME:CDT
DTSTART:20280312T080000
END:DAYLIGHT
BEGIN:STANDARD
TZOFFSETFROM:-0500
TZOFFSETTO:-0600
TZNAME:CST
DTSTART:20281105T070000
END:STANDARD
END:VTIMEZONE
BEGIN:VEVENT
DTSTART;TZID=America/Chicago:20270201T104500
DTEND;TZID=America/Chicago:20270201T130000
DTSTAMP:20260423T185659
CREATED:20240417T171748Z
LAST-MODIFIED:20260223T164247Z
UID:10001191-1801478700-1801486800@bacoa.org
SUMMARY:Lunch and Bingo
DESCRIPTION:Weekly congregate lunch and 1-hour bingo program at Barrington Park District.Bingo and Panera lunch: $12; bingo only: $3. \n\n\n\nRegistration is required. Pay before or at the event.
URL:https://bacoa.org/event/lunch-and-bingo-2/2027-02-01/
LOCATION:Barrington Park District\, 235 Lions Dr\, Barrington\, IL\, 60010\, United States
CATEGORIES:Active Aging
ORGANIZER;CN="Janine O%E2%80%99Leary":MAILTO:joleary@bacoa.org
END:VEVENT
BEGIN:VEVENT
DTSTART;TZID=America/Chicago:20270202T110000
DTEND;TZID=America/Chicago:20270202T120000
DTSTAMP:20260423T185659
CREATED:20240904T194905Z
LAST-MODIFIED:20260223T161346Z
UID:10001713-1801566000-1801569600@bacoa.org
SUMMARY:Virtual Bingo
DESCRIPTION:Weekly virtual bingo. Three prizes given away each week!  \n\n\n\n\n\n\n\nContact Janine for Zoom link
URL:https://bacoa.org/event/virtual-bingo-3/2027-02-02/
LOCATION:https://bacoa.org/event/virtual-bingo-3/2027-02-02/
CATEGORIES:Active Aging
ORGANIZER;CN="Janine O%E2%80%99Leary":MAILTO:joleary@bacoa.org
END:VEVENT
BEGIN:VEVENT
DTSTART;TZID=America/Chicago:20270208T104500
DTEND;TZID=America/Chicago:20270208T130000
DTSTAMP:20260423T185659
CREATED:20240417T171748Z
LAST-MODIFIED:20260223T164247Z
UID:10001192-1802083500-1802091600@bacoa.org
SUMMARY:Lunch and Bingo
DESCRIPTION:Weekly congregate lunch and 1-hour bingo program at Barrington Park District.Bingo and Panera lunch: $12; bingo only: $3. \n\n\n\nRegistration is required. Pay before or at the event.
URL:https://bacoa.org/event/lunch-and-bingo-2/2027-02-08/
LOCATION:Barrington Park District\, 235 Lions Dr\, Barrington\, IL\, 60010\, United States
CATEGORIES:Active Aging
ORGANIZER;CN="Janine O%E2%80%99Leary":MAILTO:joleary@bacoa.org
END:VEVENT
BEGIN:VEVENT
DTSTART;TZID=America/Chicago:20270209T110000
DTEND;TZID=America/Chicago:20270209T120000
DTSTAMP:20260423T185659
CREATED:20240904T194905Z
LAST-MODIFIED:20260223T161346Z
UID:10001714-1802170800-1802174400@bacoa.org
SUMMARY:Virtual Bingo
DESCRIPTION:Weekly virtual bingo. Three prizes given away each week!  \n\n\n\n\n\n\n\nContact Janine for Zoom link
URL:https://bacoa.org/event/virtual-bingo-3/2027-02-09/
LOCATION:https://bacoa.org/event/virtual-bingo-3/2027-02-09/
CATEGORIES:Active Aging
ORGANIZER;CN="Janine O%E2%80%99Leary":MAILTO:joleary@bacoa.org
END:VEVENT
BEGIN:VEVENT
DTSTART;TZID=America/Chicago:20270215T104500
DTEND;TZID=America/Chicago:20270215T130000
DTSTAMP:20260423T185659
CREATED:20240417T171748Z
LAST-MODIFIED:20260223T164247Z
UID:10001193-1802688300-1802696400@bacoa.org
SUMMARY:Lunch and Bingo
DESCRIPTION:Weekly congregate lunch and 1-hour bingo program at Barrington Park District.Bingo and Panera lunch: $12; bingo only: $3. \n\n\n\nRegistration is required. Pay before or at the event.
URL:https://bacoa.org/event/lunch-and-bingo-2/2027-02-15/
LOCATION:Barrington Park District\, 235 Lions Dr\, Barrington\, IL\, 60010\, United States
CATEGORIES:Active Aging
ORGANIZER;CN="Janine O%E2%80%99Leary":MAILTO:joleary@bacoa.org
END:VEVENT
BEGIN:VEVENT
DTSTART;TZID=America/Chicago:20270216T110000
DTEND;TZID=America/Chicago:20270216T120000
DTSTAMP:20260423T185659
CREATED:20240904T194905Z
LAST-MODIFIED:20260223T161346Z
UID:10001715-1802775600-1802779200@bacoa.org
SUMMARY:Virtual Bingo
DESCRIPTION:Weekly virtual bingo. Three prizes given away each week!  \n\n\n\n\n\n\n\nContact Janine for Zoom link
URL:https://bacoa.org/event/virtual-bingo-3/2027-02-16/
LOCATION:https://bacoa.org/event/virtual-bingo-3/2027-02-16/
CATEGORIES:Active Aging
ORGANIZER;CN="Janine O%E2%80%99Leary":MAILTO:joleary@bacoa.org
END:VEVENT
BEGIN:VEVENT
DTSTART;TZID=America/Chicago:20270222T104500
DTEND;TZID=America/Chicago:20270222T130000
DTSTAMP:20260423T185659
CREATED:20240417T171748Z
LAST-MODIFIED:20260223T164247Z
UID:10001194-1803293100-1803301200@bacoa.org
SUMMARY:Lunch and Bingo
DESCRIPTION:Weekly congregate lunch and 1-hour bingo program at Barrington Park District.Bingo and Panera lunch: $12; bingo only: $3. \n\n\n\nRegistration is required. Pay before or at the event.
URL:https://bacoa.org/event/lunch-and-bingo-2/2027-02-22/
LOCATION:Barrington Park District\, 235 Lions Dr\, Barrington\, IL\, 60010\, United States
CATEGORIES:Active Aging
ORGANIZER;CN="Janine O%E2%80%99Leary":MAILTO:joleary@bacoa.org
END:VEVENT
BEGIN:VEVENT
DTSTART;TZID=America/Chicago:20270223T110000
DTEND;TZID=America/Chicago:20270223T120000
DTSTAMP:20260423T185659
CREATED:20240904T194905Z
LAST-MODIFIED:20260223T161346Z
UID:10001716-1803380400-1803384000@bacoa.org
SUMMARY:Virtual Bingo
DESCRIPTION:Weekly virtual bingo. Three prizes given away each week!  \n\n\n\n\n\n\n\nContact Janine for Zoom link
URL:https://bacoa.org/event/virtual-bingo-3/2027-02-23/
LOCATION:https://bacoa.org/event/virtual-bingo-3/2027-02-23/
CATEGORIES:Active Aging
ORGANIZER;CN="Janine O%E2%80%99Leary":MAILTO:joleary@bacoa.org
END:VEVENT
END:VCALENDAR