BEGIN:VCALENDAR
VERSION:2.0
PRODID:-//Bacoa - ECPv6.15.20//NONSGML v1.0//EN
CALSCALE:GREGORIAN
METHOD:PUBLISH
X-ORIGINAL-URL:https://bacoa.org
X-WR-CALDESC:Events for Bacoa
REFRESH-INTERVAL;VALUE=DURATION:PT1H
X-Robots-Tag:noindex
X-PUBLISHED-TTL:PT1H
BEGIN:VTIMEZONE
TZID:America/Chicago
BEGIN:DAYLIGHT
TZOFFSETFROM:-0600
TZOFFSETTO:-0500
TZNAME:CDT
DTSTART:20260308T080000
END:DAYLIGHT
BEGIN:STANDARD
TZOFFSETFROM:-0500
TZOFFSETTO:-0600
TZNAME:CST
DTSTART:20261101T070000
END:STANDARD
BEGIN:DAYLIGHT
TZOFFSETFROM:-0600
TZOFFSETTO:-0500
TZNAME:CDT
DTSTART:20270314T080000
END:DAYLIGHT
BEGIN:STANDARD
TZOFFSETFROM:-0500
TZOFFSETTO:-0600
TZNAME:CST
DTSTART:20271107T070000
END:STANDARD
BEGIN:DAYLIGHT
TZOFFSETFROM:-0600
TZOFFSETTO:-0500
TZNAME:CDT
DTSTART:20280312T080000
END:DAYLIGHT
BEGIN:STANDARD
TZOFFSETFROM:-0500
TZOFFSETTO:-0600
TZNAME:CST
DTSTART:20281105T070000
END:STANDARD
END:VTIMEZONE
BEGIN:VEVENT
DTSTART;TZID=America/Chicago:20270104T104500
DTEND;TZID=America/Chicago:20270104T130000
DTSTAMP:20260423T171513
CREATED:20240417T171748Z
LAST-MODIFIED:20260223T164247Z
UID:10001187-1799059500-1799067600@bacoa.org
SUMMARY:Lunch and Bingo
DESCRIPTION:Weekly congregate lunch and 1-hour bingo program at Barrington Park District.Bingo and Panera lunch: $12; bingo only: $3. \n\n\n\nRegistration is required. Pay before or at the event.
URL:https://bacoa.org/event/lunch-and-bingo-2/2027-01-04/
LOCATION:Barrington Park District\, 235 Lions Dr\, Barrington\, IL\, 60010\, United States
CATEGORIES:Active Aging
ORGANIZER;CN="Janine O%E2%80%99Leary":MAILTO:joleary@bacoa.org
END:VEVENT
BEGIN:VEVENT
DTSTART;TZID=America/Chicago:20270105T110000
DTEND;TZID=America/Chicago:20270105T120000
DTSTAMP:20260423T171513
CREATED:20240904T194905Z
LAST-MODIFIED:20260223T161346Z
UID:10001709-1799146800-1799150400@bacoa.org
SUMMARY:Virtual Bingo
DESCRIPTION:Weekly virtual bingo. Three prizes given away each week!  \n\n\n\n\n\n\n\nContact Janine for Zoom link
URL:https://bacoa.org/event/virtual-bingo-3/2027-01-05/
LOCATION:https://bacoa.org/event/virtual-bingo-3/2027-01-05/
CATEGORIES:Active Aging
ORGANIZER;CN="Janine O%E2%80%99Leary":MAILTO:joleary@bacoa.org
END:VEVENT
BEGIN:VEVENT
DTSTART;TZID=America/Chicago:20270111T104500
DTEND;TZID=America/Chicago:20270111T130000
DTSTAMP:20260423T171513
CREATED:20240417T171748Z
LAST-MODIFIED:20260223T164247Z
UID:10001188-1799664300-1799672400@bacoa.org
SUMMARY:Lunch and Bingo
DESCRIPTION:Weekly congregate lunch and 1-hour bingo program at Barrington Park District.Bingo and Panera lunch: $12; bingo only: $3. \n\n\n\nRegistration is required. Pay before or at the event.
URL:https://bacoa.org/event/lunch-and-bingo-2/2027-01-11/
LOCATION:Barrington Park District\, 235 Lions Dr\, Barrington\, IL\, 60010\, United States
CATEGORIES:Active Aging
ORGANIZER;CN="Janine O%E2%80%99Leary":MAILTO:joleary@bacoa.org
END:VEVENT
BEGIN:VEVENT
DTSTART;TZID=America/Chicago:20270112T110000
DTEND;TZID=America/Chicago:20270112T120000
DTSTAMP:20260423T171513
CREATED:20240904T194905Z
LAST-MODIFIED:20260223T161346Z
UID:10001710-1799751600-1799755200@bacoa.org
SUMMARY:Virtual Bingo
DESCRIPTION:Weekly virtual bingo. Three prizes given away each week!  \n\n\n\n\n\n\n\nContact Janine for Zoom link
URL:https://bacoa.org/event/virtual-bingo-3/2027-01-12/
LOCATION:https://bacoa.org/event/virtual-bingo-3/2027-01-12/
CATEGORIES:Active Aging
ORGANIZER;CN="Janine O%E2%80%99Leary":MAILTO:joleary@bacoa.org
END:VEVENT
BEGIN:VEVENT
DTSTART;TZID=America/Chicago:20270118T104500
DTEND;TZID=America/Chicago:20270118T130000
DTSTAMP:20260423T171513
CREATED:20240417T171748Z
LAST-MODIFIED:20260223T164247Z
UID:10001189-1800269100-1800277200@bacoa.org
SUMMARY:Lunch and Bingo
DESCRIPTION:Weekly congregate lunch and 1-hour bingo program at Barrington Park District.Bingo and Panera lunch: $12; bingo only: $3. \n\n\n\nRegistration is required. Pay before or at the event.
URL:https://bacoa.org/event/lunch-and-bingo-2/2027-01-18/
LOCATION:Barrington Park District\, 235 Lions Dr\, Barrington\, IL\, 60010\, United States
CATEGORIES:Active Aging
ORGANIZER;CN="Janine O%E2%80%99Leary":MAILTO:joleary@bacoa.org
END:VEVENT
BEGIN:VEVENT
DTSTART;TZID=America/Chicago:20270119T110000
DTEND;TZID=America/Chicago:20270119T120000
DTSTAMP:20260423T171513
CREATED:20240904T194905Z
LAST-MODIFIED:20260223T161346Z
UID:10001711-1800356400-1800360000@bacoa.org
SUMMARY:Virtual Bingo
DESCRIPTION:Weekly virtual bingo. Three prizes given away each week!  \n\n\n\n\n\n\n\nContact Janine for Zoom link
URL:https://bacoa.org/event/virtual-bingo-3/2027-01-19/
LOCATION:https://bacoa.org/event/virtual-bingo-3/2027-01-19/
CATEGORIES:Active Aging
ORGANIZER;CN="Janine O%E2%80%99Leary":MAILTO:joleary@bacoa.org
END:VEVENT
BEGIN:VEVENT
DTSTART;TZID=America/Chicago:20270125T104500
DTEND;TZID=America/Chicago:20270125T130000
DTSTAMP:20260423T171513
CREATED:20240417T171748Z
LAST-MODIFIED:20260223T164247Z
UID:10001190-1800873900-1800882000@bacoa.org
SUMMARY:Lunch and Bingo
DESCRIPTION:Weekly congregate lunch and 1-hour bingo program at Barrington Park District.Bingo and Panera lunch: $12; bingo only: $3. \n\n\n\nRegistration is required. Pay before or at the event.
URL:https://bacoa.org/event/lunch-and-bingo-2/2027-01-25/
LOCATION:Barrington Park District\, 235 Lions Dr\, Barrington\, IL\, 60010\, United States
CATEGORIES:Active Aging
ORGANIZER;CN="Janine O%E2%80%99Leary":MAILTO:joleary@bacoa.org
END:VEVENT
BEGIN:VEVENT
DTSTART;TZID=America/Chicago:20270126T110000
DTEND;TZID=America/Chicago:20270126T120000
DTSTAMP:20260423T171513
CREATED:20240904T194905Z
LAST-MODIFIED:20260223T161346Z
UID:10001712-1800961200-1800964800@bacoa.org
SUMMARY:Virtual Bingo
DESCRIPTION:Weekly virtual bingo. Three prizes given away each week!  \n\n\n\n\n\n\n\nContact Janine for Zoom link
URL:https://bacoa.org/event/virtual-bingo-3/2027-01-26/
LOCATION:https://bacoa.org/event/virtual-bingo-3/2027-01-26/
CATEGORIES:Active Aging
ORGANIZER;CN="Janine O%E2%80%99Leary":MAILTO:joleary@bacoa.org
END:VEVENT
END:VCALENDAR