BEGIN:VCALENDAR
VERSION:2.0
PRODID:-//Bacoa - ECPv6.15.20//NONSGML v1.0//EN
CALSCALE:GREGORIAN
METHOD:PUBLISH
X-WR-CALNAME:Bacoa
X-ORIGINAL-URL:https://bacoa.org
X-WR-CALDESC:Events for Bacoa
REFRESH-INTERVAL;VALUE=DURATION:PT1H
X-Robots-Tag:noindex
X-PUBLISHED-TTL:PT1H
BEGIN:VTIMEZONE
TZID:America/Chicago
BEGIN:DAYLIGHT
TZOFFSETFROM:-0600
TZOFFSETTO:-0500
TZNAME:CDT
DTSTART:20250309T080000
END:DAYLIGHT
BEGIN:STANDARD
TZOFFSETFROM:-0500
TZOFFSETTO:-0600
TZNAME:CST
DTSTART:20251102T070000
END:STANDARD
BEGIN:DAYLIGHT
TZOFFSETFROM:-0600
TZOFFSETTO:-0500
TZNAME:CDT
DTSTART:20260308T080000
END:DAYLIGHT
BEGIN:STANDARD
TZOFFSETFROM:-0500
TZOFFSETTO:-0600
TZNAME:CST
DTSTART:20261101T070000
END:STANDARD
BEGIN:DAYLIGHT
TZOFFSETFROM:-0600
TZOFFSETTO:-0500
TZNAME:CDT
DTSTART:20270314T080000
END:DAYLIGHT
BEGIN:STANDARD
TZOFFSETFROM:-0500
TZOFFSETTO:-0600
TZNAME:CST
DTSTART:20271107T070000
END:STANDARD
END:VTIMEZONE
BEGIN:VEVENT
DTSTART;TZID=America/Chicago:20261102T104500
DTEND;TZID=America/Chicago:20261102T130000
DTSTAMP:20260421T165253
CREATED:20240417T171748Z
LAST-MODIFIED:20260223T164247Z
UID:10001178-1793616300-1793624400@bacoa.org
SUMMARY:Lunch and Bingo
DESCRIPTION:Weekly congregate lunch and 1-hour bingo program at Barrington Park District.Bingo and Panera lunch: $12; bingo only: $3. \n\n\n\nRegistration is required. Pay before or at the event.
URL:https://bacoa.org/event/lunch-and-bingo-2/2026-11-02/
LOCATION:Barrington Park District\, 235 Lions Dr\, Barrington\, IL\, 60010\, United States
CATEGORIES:Active Aging
ORGANIZER;CN="Janine O%E2%80%99Leary":MAILTO:joleary@bacoa.org
END:VEVENT
BEGIN:VEVENT
DTSTART;TZID=America/Chicago:20261103T110000
DTEND;TZID=America/Chicago:20261103T120000
DTSTAMP:20260421T165253
CREATED:20240904T194905Z
LAST-MODIFIED:20260223T161346Z
UID:10001700-1793703600-1793707200@bacoa.org
SUMMARY:Virtual Bingo
DESCRIPTION:Weekly virtual bingo. Three prizes given away each week!  \n\n\n\n\n\n\n\nContact Janine for Zoom link
URL:https://bacoa.org/event/virtual-bingo-3/2026-11-03/
LOCATION:https://bacoa.org/event/virtual-bingo-3/2026-11-03/
CATEGORIES:Active Aging
ORGANIZER;CN="Janine O%E2%80%99Leary":MAILTO:joleary@bacoa.org
END:VEVENT
BEGIN:VEVENT
DTSTART;TZID=America/Chicago:20261104T100000
DTEND;TZID=America/Chicago:20261104T120000
DTSTAMP:20260421T165253
CREATED:20250915T134853Z
LAST-MODIFIED:20250915T135259Z
UID:10004605-1793786400-1793793600@bacoa.org
SUMMARY:Hand and Foot: Play and Learn
DESCRIPTION:Come learn and play this game.Please let Janine know you are coming. Session held in the Zimmerman room.
URL:https://bacoa.org/event/hand-and-foot-play-and-learn-2026/2026-11-04/
LOCATION:Barrington Area Library\, 505 N Northwest Hwy\, Barrington\, Illinois\, 60010\, United States
CATEGORIES:Active Aging
ORGANIZER;CN="Janine O%E2%80%99Leary":MAILTO:joleary@bacoa.org
END:VEVENT
BEGIN:VEVENT
DTSTART;TZID=America/Chicago:20261109T104500
DTEND;TZID=America/Chicago:20261109T130000
DTSTAMP:20260421T165253
CREATED:20240417T171748Z
LAST-MODIFIED:20260223T164247Z
UID:10001179-1794221100-1794229200@bacoa.org
SUMMARY:Lunch and Bingo
DESCRIPTION:Weekly congregate lunch and 1-hour bingo program at Barrington Park District.Bingo and Panera lunch: $12; bingo only: $3. \n\n\n\nRegistration is required. Pay before or at the event.
URL:https://bacoa.org/event/lunch-and-bingo-2/2026-11-09/
LOCATION:Barrington Park District\, 235 Lions Dr\, Barrington\, IL\, 60010\, United States
CATEGORIES:Active Aging
ORGANIZER;CN="Janine O%E2%80%99Leary":MAILTO:joleary@bacoa.org
END:VEVENT
BEGIN:VEVENT
DTSTART;TZID=America/Chicago:20261110T110000
DTEND;TZID=America/Chicago:20261110T120000
DTSTAMP:20260421T165253
CREATED:20240904T194905Z
LAST-MODIFIED:20260223T161346Z
UID:10001701-1794308400-1794312000@bacoa.org
SUMMARY:Virtual Bingo
DESCRIPTION:Weekly virtual bingo. Three prizes given away each week!  \n\n\n\n\n\n\n\nContact Janine for Zoom link
URL:https://bacoa.org/event/virtual-bingo-3/2026-11-10/
LOCATION:https://bacoa.org/event/virtual-bingo-3/2026-11-10/
CATEGORIES:Active Aging
ORGANIZER;CN="Janine O%E2%80%99Leary":MAILTO:joleary@bacoa.org
END:VEVENT
BEGIN:VEVENT
DTSTART;TZID=America/Chicago:20261116T104500
DTEND;TZID=America/Chicago:20261116T130000
DTSTAMP:20260421T165253
CREATED:20240417T171748Z
LAST-MODIFIED:20260223T164247Z
UID:10001180-1794825900-1794834000@bacoa.org
SUMMARY:Lunch and Bingo
DESCRIPTION:Weekly congregate lunch and 1-hour bingo program at Barrington Park District.Bingo and Panera lunch: $12; bingo only: $3. \n\n\n\nRegistration is required. Pay before or at the event.
URL:https://bacoa.org/event/lunch-and-bingo-2/2026-11-16/
LOCATION:Barrington Park District\, 235 Lions Dr\, Barrington\, IL\, 60010\, United States
CATEGORIES:Active Aging
ORGANIZER;CN="Janine O%E2%80%99Leary":MAILTO:joleary@bacoa.org
END:VEVENT
BEGIN:VEVENT
DTSTART;TZID=America/Chicago:20261117T110000
DTEND;TZID=America/Chicago:20261117T120000
DTSTAMP:20260421T165253
CREATED:20240904T194905Z
LAST-MODIFIED:20260223T161346Z
UID:10001702-1794913200-1794916800@bacoa.org
SUMMARY:Virtual Bingo
DESCRIPTION:Weekly virtual bingo. Three prizes given away each week!  \n\n\n\n\n\n\n\nContact Janine for Zoom link
URL:https://bacoa.org/event/virtual-bingo-3/2026-11-17/
LOCATION:https://bacoa.org/event/virtual-bingo-3/2026-11-17/
CATEGORIES:Active Aging
ORGANIZER;CN="Janine O%E2%80%99Leary":MAILTO:joleary@bacoa.org
END:VEVENT
BEGIN:VEVENT
DTSTART;TZID=America/Chicago:20261118T120000
DTEND;TZID=America/Chicago:20261118T140000
DTSTAMP:20260421T165253
CREATED:20250915T142718Z
LAST-MODIFIED:20250915T142721Z
UID:10004630-1795003200-1795010400@bacoa.org
SUMMARY:Cuisine Club - Location TBD
DESCRIPTION:Join friends for a monthly trip to a local restaurant.RSVP to Janine by 11/10 with your menu choice and payment
URL:https://bacoa.org/event/cuisine-club-location-tbd-14/
LOCATION:Illinois
CATEGORIES:Active Aging
ORGANIZER;CN="Janine O%E2%80%99Leary":MAILTO:joleary@bacoa.org
END:VEVENT
BEGIN:VEVENT
DTSTART;TZID=America/Chicago:20261123T103000
DTEND;TZID=America/Chicago:20261123T130000
DTSTAMP:20260421T165253
CREATED:20250915T151529Z
LAST-MODIFIED:20260223T172414Z
UID:10001181-1795429800-1795438800@bacoa.org
SUMMARY:Thanksgiving Lunch and Bingo
DESCRIPTION:Panera lunch\, entertainment\, and a 1-hour bingo program at Barrington Park District.
URL:https://bacoa.org/event/lunch-and-bingo-thanksgiving-2026/
LOCATION:Barrington Park District\, 235 Lions Dr\, Barrington\, IL\, 60010\, United States
CATEGORIES:Active Aging
ORGANIZER;CN="Janine O%E2%80%99Leary":MAILTO:joleary@bacoa.org
END:VEVENT
BEGIN:VEVENT
DTSTART;TZID=America/Chicago:20261124T110000
DTEND;TZID=America/Chicago:20261124T120000
DTSTAMP:20260421T165253
CREATED:20240904T194905Z
LAST-MODIFIED:20260223T161346Z
UID:10001703-1795518000-1795521600@bacoa.org
SUMMARY:Virtual Bingo
DESCRIPTION:Weekly virtual bingo. Three prizes given away each week!  \n\n\n\n\n\n\n\nContact Janine for Zoom link
URL:https://bacoa.org/event/virtual-bingo-3/2026-11-24/
LOCATION:https://bacoa.org/event/virtual-bingo-3/2026-11-24/
CATEGORIES:Active Aging
ORGANIZER;CN="Janine O%E2%80%99Leary":MAILTO:joleary@bacoa.org
END:VEVENT
BEGIN:VEVENT
DTSTART;TZID=America/Chicago:20261130T104500
DTEND;TZID=America/Chicago:20261130T130000
DTSTAMP:20260421T165253
CREATED:20240417T171748Z
LAST-MODIFIED:20260223T164247Z
UID:10001182-1796035500-1796043600@bacoa.org
SUMMARY:Lunch and Bingo
DESCRIPTION:Weekly congregate lunch and 1-hour bingo program at Barrington Park District.Bingo and Panera lunch: $12; bingo only: $3. \n\n\n\nRegistration is required. Pay before or at the event.
URL:https://bacoa.org/event/lunch-and-bingo-2/2026-11-30/
LOCATION:Barrington Park District\, 235 Lions Dr\, Barrington\, IL\, 60010\, United States
CATEGORIES:Active Aging
ORGANIZER;CN="Janine O%E2%80%99Leary":MAILTO:joleary@bacoa.org
END:VEVENT
END:VCALENDAR