BEGIN:VCALENDAR
VERSION:2.0
PRODID:-//Bacoa - ECPv6.15.20//NONSGML v1.0//EN
CALSCALE:GREGORIAN
METHOD:PUBLISH
X-WR-CALNAME:Bacoa
X-ORIGINAL-URL:https://bacoa.org
X-WR-CALDESC:Events for Bacoa
REFRESH-INTERVAL;VALUE=DURATION:PT1H
X-Robots-Tag:noindex
X-PUBLISHED-TTL:PT1H
BEGIN:VTIMEZONE
TZID:America/Chicago
BEGIN:DAYLIGHT
TZOFFSETFROM:-0600
TZOFFSETTO:-0500
TZNAME:CDT
DTSTART:20250309T080000
END:DAYLIGHT
BEGIN:STANDARD
TZOFFSETFROM:-0500
TZOFFSETTO:-0600
TZNAME:CST
DTSTART:20251102T070000
END:STANDARD
BEGIN:DAYLIGHT
TZOFFSETFROM:-0600
TZOFFSETTO:-0500
TZNAME:CDT
DTSTART:20260308T080000
END:DAYLIGHT
BEGIN:STANDARD
TZOFFSETFROM:-0500
TZOFFSETTO:-0600
TZNAME:CST
DTSTART:20261101T070000
END:STANDARD
BEGIN:DAYLIGHT
TZOFFSETFROM:-0600
TZOFFSETTO:-0500
TZNAME:CDT
DTSTART:20270314T080000
END:DAYLIGHT
BEGIN:STANDARD
TZOFFSETFROM:-0500
TZOFFSETTO:-0600
TZNAME:CST
DTSTART:20271107T070000
END:STANDARD
END:VTIMEZONE
BEGIN:VEVENT
DTSTART;TZID=America/Chicago:20260212T100000
DTEND;TZID=America/Chicago:20260212T143000
DTSTAMP:20260425T081602
CREATED:20250915T144459Z
LAST-MODIFIED:20250915T144504Z
UID:10000099-1770890400-1770906600@bacoa.org
SUMMARY:'A Day Out' Adult Program
DESCRIPTION:A social model program designed to address challenges of living with dementia by providing a structured\, engaging\, and strength-based environment for people living with early-stage Alzheimer’s Disease and related dementias. \n\n\n\nPRE-EVALUATION IS REQUIRED BEFORE PARTICIPATION
URL:https://bacoa.org/event/a-day-out-adult-program-4/2026-02-12/
LOCATION:Lutheran Church of the Atonement\, 909 E Main St\, Barrington\, Illinois\, 60010\, United States
CATEGORIES:Memory Programs
ORGANIZER;CN="Pam Pellizzari":MAILTO:ppellizzari@bacoa.org
END:VEVENT
BEGIN:VEVENT
DTSTART;TZID=America/Chicago:20260212T130000
DTEND;TZID=America/Chicago:20260212T143000
DTSTAMP:20260425T081602
CREATED:20250915T140259Z
LAST-MODIFIED:20250915T140529Z
UID:10004609-1770901200-1770906600@bacoa.org
SUMMARY:Low Vision/Blind Support Group
DESCRIPTION:Education and support for people living with restricted vision.Located in Lake Barrington Woods Community Room \n\n\n\nNew participants: Call Laura first
URL:https://bacoa.org/event/low-vision-blind-support-group-2026/2026-02-12/
LOCATION:Lake Barrington Woods\, 22320 Classic Ct\, Lake Barrington\, Illinois\, 60010\, United States
CATEGORIES:Support Groups
ORGANIZER;CN="Laura Kulawik":MAILTO:lkulawik@bacoa.org
END:VEVENT
BEGIN:VEVENT
DTSTART;TZID=America/Chicago:20260212T190000
DTEND;TZID=America/Chicago:20260212T200000
DTSTAMP:20260425T081602
CREATED:20251113T165230Z
LAST-MODIFIED:20260130T153042Z
UID:10004725-1770922800-1770926400@bacoa.org
SUMMARY:Annual Legacy Check-Up:  Wills\, Trusts and More
DESCRIPTION:Start the new year by giving yourself and your loved ones peace of mind. Attorney Bonnie Weis of the firm Buckley Fine explores how to perform an annual check-up on important documents such as advance directives\, power of attorney\, Five Wishes\, wills and trusts. \n\n\n\nRegister here: Barrington Area Library
URL:https://bacoa.org/event/annual-legacy-check-up-wills-trusts-and-more/
LOCATION:Illinois
CATEGORIES:Special Events
ORGANIZER;CN="Janine O%E2%80%99Leary":MAILTO:joleary@bacoa.org
END:VEVENT
END:VCALENDAR